Back to the "Multiple platform build/check report" | [A] B C D E F G H I J K L M N O P Q R S T U V W X Y Z |
Package 27/462 | Hostname | OS / Arch | BUILD | CHECK | BUILD BIN | ||||
Agi4x44PreProcess 1.13.1 Pedro Lopez-Romero
| wilson2 | Linux (openSUSE 11.4) / x86_64 | OK | OK | |||||
liverpool | Windows Server 2003 R2 (32-bit) / x64 | OK | OK | OK | |||||
gewurz | Windows Server 2008 R2 Enterprise (64-bit) / x64 | OK | OK | OK | |||||
pelham | Mac OS X Leopard (10.5.8) / i386 | [ OK ] | OK | OK |
Package: Agi4x44PreProcess |
Version: 1.13.1 |
Command: /Library/Frameworks/R.framework/Versions/2.14/Resources/bin/R CMD build --keep-empty-dirs --no-resave-data Agi4x44PreProcess |
StartedAt: 2011-05-09 11:21:21 -0700 (Mon, 09 May 2011) |
EndedAt: 2011-05-09 11:22:08 -0700 (Mon, 09 May 2011) |
EllapsedTime: 46.6 seconds |
RetCode: 0 |
Status: OK |
PackageFile: Agi4x44PreProcess_1.13.1.tar.gz |
PackageFileSize: 1.757 MiB |
* checking for file ‘Agi4x44PreProcess/DESCRIPTION’ ... OK * preparing ‘Agi4x44PreProcess’: * checking DESCRIPTION meta-information ... OK * installing the package to re-build vignettes * creating vignettes ... OK * checking for LF line-endings in source and make files * checking for empty or unneeded directories * looking to see if a ‘data/datalist’ file should be added * building ‘Agi4x44PreProcess_1.13.1.tar.gz’