| Back to the "Multiple platform build/check report" | A B C D E F G H I J K L M N O P Q [R] S T U V W X Y Z |
| Package 384/467 | Hostname | OS / Arch | BUILD | CHECK | BUILD BIN | ||||
| rMAT 3.2.0 Arnaud Droit
| lamb1 | Linux (openSUSE 11.3) / x86_64 | [ OK ] | WARNINGS | |||||
| liverpool | Windows Server 2003 R2 (32-bit) / x64 | OK | WARNINGS | OK | |||||
| gewurz | Windows Server 2008 R2 Enterprise SP1 (64-bit) / x64 | N O T S U P P O R T E D | |||||||
| pelham | Mac OS X Leopard (10.5.8) / i386 | OK | WARNINGS | OK | |||||
| Package: rMAT |
| Version: 3.2.0 |
| Command: /home/biocbuild/bbs-2.8-bioc/R/bin/R CMD build --keep-empty-dirs --no-resave-data rMAT |
| StartedAt: 2011-10-20 10:25:40 -0700 (Thu, 20 Oct 2011) |
| EndedAt: 2011-10-20 10:26:04 -0700 (Thu, 20 Oct 2011) |
| EllapsedTime: 24.2 seconds |
| RetCode: 0 |
| Status: OK |
| PackageFile: rMAT_3.2.0.tar.gz |
| PackageFileSize: 581.1 KiB |
* checking for file ‘rMAT/DESCRIPTION’ ... OK * preparing ‘rMAT’: * checking DESCRIPTION meta-information ... OK * cleaning src * running cleanup * installing the package to re-build vignettes * creating vignettes ... OK * cleaning src * running cleanup * checking for LF line-endings in source and make files * checking for empty or unneeded directories * building ‘rMAT_3.2.0.tar.gz’