Back to the "Multiple platform build/check report" | A B C D E F G [H] I J K L M N O P Q R S T U V W X Y Z |
Package 226/467 | Hostname | OS / Arch | BUILD | CHECK | BUILD BIN | ||||
hypergraph 1.24.0 Biocore Team c/o BioC user list
| lamb1 | Linux (openSUSE 11.3) / x86_64 | [ OK ] | OK | |||||
liverpool | Windows Server 2003 R2 (32-bit) / x64 | OK | OK | OK | |||||
gewurz | Windows Server 2008 R2 Enterprise SP1 (64-bit) / x64 | OK | OK | OK | |||||
pelham | Mac OS X Leopard (10.5.8) / i386 | OK | OK | OK |
Package: hypergraph |
Version: 1.24.0 |
Command: /home/biocbuild/bbs-2.8-bioc/R/bin/R CMD build --keep-empty-dirs --no-resave-data hypergraph |
StartedAt: 2011-10-20 09:41:02 -0700 (Thu, 20 Oct 2011) |
EndedAt: 2011-10-20 09:41:03 -0700 (Thu, 20 Oct 2011) |
EllapsedTime: 0.8 seconds |
RetCode: 0 |
Status: OK |
PackageFile: hypergraph_1.24.0.tar.gz |
PackageFileSize: 8.808 KiB |
* checking for file ‘hypergraph/DESCRIPTION’ ... OK * preparing ‘hypergraph’: * checking DESCRIPTION meta-information ... OK * checking for LF line-endings in source and make files * checking for empty or unneeded directories WARNING: directory ‘hypergraph/inst/doc’ is empty * building ‘hypergraph_1.24.0.tar.gz’