Back to the "Multiple platform build/check report" | A B C D E F G H I J K L M N O P Q [R] S T U V W X Y Z |
Package 369/467 | Hostname | OS / Arch | BUILD | CHECK | BUILD BIN | ||||
RdbiPgSQL 1.26.0 Jianhua Zhang
| lamb1 | Linux (openSUSE 11.3) / x86_64 | OK | OK | |||||
liverpool | Windows Server 2003 R2 (32-bit) / x64 | N O T S U P P O R T E D | |||||||
gewurz | Windows Server 2008 R2 Enterprise SP1 (64-bit) / x64 | N O T S U P P O R T E D | |||||||
pelham | Mac OS X Leopard (10.5.8) / i386 | OK | ERROR | [ ERROR ] |
Package: RdbiPgSQL |
Version: 1.26.0 |
Command: rm -rf RdbiPgSQL.buildbin-libdir && mkdir RdbiPgSQL.buildbin-libdir && /Users/biocbuild/BBS/utils/build-universal.sh RdbiPgSQL_1.26.0.tar.gz /Library/Frameworks/R.framework/Versions/2.13/Resources/bin/R RdbiPgSQL.buildbin-libdir |
StartedAt: 2011-10-20 18:25:25 -0700 (Thu, 20 Oct 2011) |
EndedAt: 2011-10-20 18:25:27 -0700 (Thu, 20 Oct 2011) |
EllapsedTime: 1.8 seconds |
RetCode: 1 |
Status: ERROR |
PackageFile: None |
PackageFileSize: NA |
>>>>>>> >>>>>>> INSTALLATION WITH 'R CMD INSTALL --preclean --library=RdbiPgSQL.buildbin-libdir RdbiPgSQL_1.26.0.tar.gz' >>>>>>> * installing *source* package 'RdbiPgSQL' ... creating cache ./config.cache checking for PQconnectdb in -lpq... no I could not find your PostgreSQL client libraries! Use --with-pgsql-libraries=PATH; if running R's INSTALL, use --configure-args='--with-pgsql-libraries=PATH'; or set PG_LIB_DIR in your environment to the library path, and rerun the configure/install. ERROR: configuration failed for package 'RdbiPgSQL' * removing '/Users/biocbuild/bbs-2.8-bioc/meat/RdbiPgSQL.buildbin-libdir/RdbiPgSQL'