Back to the "Multiple platform build/check report" | A B C D E F G H I J K L M N O P Q R [S] T U V W X Y Z |
Package 431/467 | Hostname | OS / Arch | BUILD | CHECK | BUILD BIN | ||||
spkTools 1.8.0 Matthew N McCall
| lamb1 | Linux (openSUSE 11.3) / x86_64 | OK | OK | |||||
liverpool | Windows Server 2003 R2 (32-bit) / x64 | OK | OK | [ OK ] | |||||
gewurz | Windows Server 2008 R2 Enterprise SP1 (64-bit) / x64 | OK | WARNINGS | OK | |||||
pelham | Mac OS X Leopard (10.5.8) / i386 | OK | OK | OK |
Package: spkTools |
Version: 1.8.0 |
Command: rm -rf spkTools.buildbin-libdir && mkdir spkTools.buildbin-libdir && E:\biocbld\bbs-2.8-bioc\R\bin\R.exe CMD INSTALL --build --no-multiarch --library=spkTools.buildbin-libdir spkTools_1.8.0.tar.gz |
StartedAt: 2011-10-20 18:06:42 -0700 (Thu, 20 Oct 2011) |
EndedAt: 2011-10-20 18:06:46 -0700 (Thu, 20 Oct 2011) |
EllapsedTime: 4.1 seconds |
RetCode: 0 |
Status: OK |
PackageFile: spkTools_1.8.0.zip |
PackageFileSize: 641.7 KiB |
* installing *source* package 'spkTools' ... ** R ** data ** inst ** preparing package for lazy loading ** help *** installing help indices ** building package indices ... ** testing if installed package can be loaded * MD5 sums packaged installation of 'spkTools' as spkTools_1.8.0.zip * DONE (spkTools)