Back to the "Multiple platform build/check report" | [A] B C D E F G H I J K L M N O P Q R S T U V W X Y Z |
Package 42/467 | Hostname | OS / Arch | BUILD | CHECK | BUILD BIN | ||||
arrayQualityMetrics 3.8.0 Audrey Kauffmann
| lamb1 | Linux (openSUSE 11.3) / x86_64 | OK | OK | |||||
liverpool | Windows Server 2003 R2 (32-bit) / x64 | OK | WARNINGS | [ OK ] | |||||
gewurz | Windows Server 2008 R2 Enterprise SP1 (64-bit) / x64 | OK | WARNINGS | OK | |||||
pelham | Mac OS X Leopard (10.5.8) / i386 | OK | OK | OK |
Package: arrayQualityMetrics |
Version: 3.8.0 |
Command: rm -rf arrayQualityMetrics.buildbin-libdir && mkdir arrayQualityMetrics.buildbin-libdir && E:\biocbld\bbs-2.8-bioc\R\bin\R.exe CMD INSTALL --build --no-multiarch --library=arrayQualityMetrics.buildbin-libdir arrayQualityMetrics_3.8.0.tar.gz |
StartedAt: 2011-10-20 17:39:58 -0700 (Thu, 20 Oct 2011) |
EndedAt: 2011-10-20 17:40:25 -0700 (Thu, 20 Oct 2011) |
EllapsedTime: 27.2 seconds |
RetCode: 0 |
Status: OK |
PackageFile: arrayQualityMetrics_3.8.0.zip |
PackageFileSize: 681.5 KiB |
* installing *source* package 'arrayQualityMetrics' ... ** R ** inst ** preparing package for lazy loading Loading required package: Biobase Welcome to Bioconductor Vignettes contain introductory material. To view, type 'browseVignettes()'. To cite Bioconductor, see 'citation("Biobase")' and for packages 'citation("pkgname")'. Creating a new generic function for "boxplot" in "affyPLM" Creating a new generic function for "hist" in "affyPLM" ** help *** installing help indices ** building package indices ... ** testing if installed package can be loaded Creating a new generic function for "boxplot" in "affyPLM" Creating a new generic function for "hist" in "affyPLM" * MD5 sums packaged installation of 'arrayQualityMetrics' as arrayQualityMetrics_3.8.0.zip * DONE (arrayQualityMetrics)