Back to the "Multiple platform build/check report" | A B C D E F G H I J K L M N O P Q [R] S T U V W X Y Z |
Package 363/467 | Hostname | OS / Arch | BUILD | CHECK | BUILD BIN | ||||
RbcBook1 1.20.0 Vince Carey
| lamb1 | Linux (openSUSE 11.3) / x86_64 | [ OK ] | WARNINGS | |||||
liverpool | Windows Server 2003 R2 (32-bit) / x64 | OK | WARNINGS | OK | |||||
gewurz | Windows Server 2008 R2 Enterprise SP1 (64-bit) / x64 | OK | WARNINGS | OK | |||||
pelham | Mac OS X Leopard (10.5.8) / i386 | OK | WARNINGS | OK |
Package: RbcBook1 |
Version: 1.20.0 |
Command: /home/biocbuild/bbs-2.8-bioc/R/bin/R CMD build --keep-empty-dirs --no-resave-data RbcBook1 |
StartedAt: 2011-10-20 09:51:47 -0700 (Thu, 20 Oct 2011) |
EndedAt: 2011-10-20 09:51:54 -0700 (Thu, 20 Oct 2011) |
EllapsedTime: 6.8 seconds |
RetCode: 0 |
Status: OK |
PackageFile: RbcBook1_1.20.0.tar.gz |
PackageFileSize: 7.664 MiB |
* checking for file ‘RbcBook1/DESCRIPTION’ ... OK * preparing ‘RbcBook1’: * checking DESCRIPTION meta-information ... OK * installing the package to re-build vignettes * creating vignettes ... OK * checking for LF line-endings in source and make files * checking for empty or unneeded directories * looking to see if a 'data/datalist' file should be added * building ‘RbcBook1_1.20.0.tar.gz’