Back to the "Multiple platform build/check report" |
Package 68/84 | Hostname | OS / Arch | BUILD | CHECK | BUILD BIN | ||||
Neve2006 0.1.10 VJ Carey
| lamb2 | Linux (openSUSE 11.2) / x86_64 | OK | OK | |||||
liverpool | Windows Server 2003 R2 (32-bit) / x64 | [ OK ] | OK | OK | |||||
pelham | Mac OS X Leopard (10.5.8) / i386 | OK | OK | OK |
Package: Neve2006 |
Version: 0.1.10 |
Command: chmod a+r Neve2006 -R && E:\biocbld\bbs-2.7-bioc\R\bin\R.exe CMD build Neve2006 |
StartedAt: 2010-11-11 14:44:03 -0800 (Thu, 11 Nov 2010) |
EndedAt: 2010-11-11 14:45:42 -0800 (Thu, 11 Nov 2010) |
EllapsedTime: 99.5 seconds |
RetCode: 0 |
Status: OK |
PackageFile: Neve2006_0.1.10.tar.gz |
PackageFileSize: 70.29 MiB |
* checking for file 'Neve2006/DESCRIPTION' ... OK * preparing 'Neve2006': * checking DESCRIPTION meta-information ... OK * installing the package to re-build vignettes * creating vignettes ... OK * checking for LF line-endings in source and make files * checking for empty or unneeded directories * building 'Neve2006_0.1.10.tar.gz'