Back to the "Multiple platform build/check report" |
Package 3/84 | Hostname | OS / Arch | BUILD | CHECK | BUILD BIN | ||||
ALL 1.4.7 Xiaochun Li
| lamb2 | Linux (openSUSE 11.2) / x86_64 | OK | OK | |||||
liverpool | Windows Server 2003 R2 (32-bit) / x64 | [ OK ] | OK | OK | |||||
pelham | Mac OS X Leopard (10.5.8) / i386 | OK | OK | OK |
Package: ALL |
Version: 1.4.7 |
Command: chmod a+r ALL -R && E:\biocbld\bbs-2.7-bioc\R\bin\R.exe CMD build ALL |
StartedAt: 2010-11-11 14:27:49 -0800 (Thu, 11 Nov 2010) |
EndedAt: 2010-11-11 14:28:47 -0800 (Thu, 11 Nov 2010) |
EllapsedTime: 58.0 seconds |
RetCode: 0 |
Status: OK |
PackageFile: ALL_1.4.7.tar.gz |
PackageFileSize: 10.87 MiB |
* checking for file 'ALL/DESCRIPTION' ... OK * preparing 'ALL': * checking DESCRIPTION meta-information ... OK * installing the package to re-build vignettes * creating vignettes ... OK * checking for LF line-endings in source and make files * checking for empty or unneeded directories * building 'ALL_1.4.7.tar.gz'