Back to the "Multiple platform build/check report" | A B C D E F G H I J K L M N O P Q R S T U V W [X] Y Z |
Package 414/419 | Hostname | OS / Arch | BUILD | CHECK | BUILD BIN | ||||
xcms 1.24.1 Colin A. Smith
| lamb2 | Linux (openSUSE 11.2) / x86_64 | OK | OK | |||||
liverpool | Windows Server 2003 R2 (32-bit) / x64 | OK | OK | OK | |||||
gewurz | Windows Server 2008 R2 Enterprise (64-bit) / x64 | OK | OK | OK | |||||
pelham | Mac OS X Leopard (10.5.8) / i386 | [ OK ] | OK | OK |
Package: xcms |
Version: 1.24.1 |
Command: /Library/Frameworks/R.framework/Versions/2.12/Resources/bin/R CMD build --keep-empty-dirs xcms |
StartedAt: 2011-03-31 02:03:03 -0700 (Thu, 31 Mar 2011) |
EndedAt: 2011-03-31 02:07:23 -0700 (Thu, 31 Mar 2011) |
EllapsedTime: 260.5 seconds |
RetCode: 0 |
Status: OK |
PackageFile: xcms_1.24.1.tar.gz |
PackageFileSize: 2.622 MiB |
Warning: unknown option ‘--keep-empty-dirs’ * checking for file ‘xcms/DESCRIPTION’ ... OK * preparing ‘xcms’: * checking DESCRIPTION meta-information ... OK * cleaning src * installing the package to re-build vignettes * creating vignettes ... OK * cleaning src * checking for LF line-endings in source and make files * checking for empty or unneeded directories * building ‘xcms_1.24.1.tar.gz’