Back to the "Multiple platform build/check report" | A B C D E F G H I J K L M N O P Q [R] S T U V W X Y Z |
Package 360/419 | Hostname | OS / Arch | BUILD | CHECK | BUILD BIN | ||||
Rtreemix 1.12.0 Jasmina Bogojeska
| lamb2 | Linux (openSUSE 11.2) / x86_64 | [ OK ] | WARNINGS | |||||
liverpool | Windows Server 2003 R2 (32-bit) / x64 | OK | WARNINGS | OK | |||||
gewurz | Windows Server 2008 R2 Enterprise (64-bit) / x64 | OK | WARNINGS | OK |
Package: Rtreemix |
Version: 1.12.0 |
Command: /home/biocbuild/bbs-2.7-bioc/R/bin/R CMD build Rtreemix |
StartedAt: 2011-04-07 02:38:44 -0700 (Thu, 07 Apr 2011) |
EndedAt: 2011-04-07 02:39:21 -0700 (Thu, 07 Apr 2011) |
EllapsedTime: 36.5 seconds |
RetCode: 0 |
Status: OK |
PackageFile: Rtreemix_1.12.0.tar.gz |
PackageFileSize: 621.5 KiB |
* checking for file ‘Rtreemix/DESCRIPTION’ ... OK * preparing ‘Rtreemix’: * checking DESCRIPTION meta-information ... OK * cleaning src * installing the package to re-build vignettes * creating vignettes ... OK * cleaning src * checking for LF line-endings in source and make files * checking for empty or unneeded directories * building ‘Rtreemix_1.12.0.tar.gz’