Back to the "Multiple platform build/check report" |
This page was generated on 2014-01-06 16:07:59 -0800 (Mon, 06 Jan 2014).
Package 156/186 | Hostname | OS / Arch | BUILD | CHECK | BUILD BIN | ||||
RNAseqData.HeLa.bam.chr14 0.1.6 H. Pages
| zin2 | Linux (Ubuntu 12.04.2 LTS) / x86_64 | OK | ERROR | |||||
moscato2 | Windows Server 2008 R2 Enterprise SP1 (64-bit) / x64 | [ OK ] | ERROR | OK | |||||
petty | Mac OS X Snow Leopard (10.6.8) / x86_64 | OK | ERROR | OK |
Package: RNAseqData.HeLa.bam.chr14 |
Version: 0.1.6 |
Command: chmod a+r RNAseqData.HeLa.bam.chr14 -R && E:\biocbld\bbs-2.14-bioc\R\bin\R.exe CMD build --keep-empty-dirs --no-resave-data RNAseqData.HeLa.bam.chr14 |
StartedAt: 2014-01-06 10:50:46 -0800 (Mon, 06 Jan 2014) |
EndedAt: 2014-01-06 10:51:06 -0800 (Mon, 06 Jan 2014) |
EllapsedTime: 19.7 seconds |
RetCode: 0 |
Status: OK |
PackageFile: RNAseqData.HeLa.bam.chr14_0.1.6.tar.gz |
PackageFileSize: 2.573 KiB |
* checking for file 'RNAseqData.HeLa.bam.chr14/DESCRIPTION' ... OK * preparing 'RNAseqData.HeLa.bam.chr14': * checking DESCRIPTION meta-information ... OK * checking for LF line-endings in source and make files * checking for empty or unneeded directories * building 'RNAseqData.HeLa.bam.chr14_0.1.6.tar.gz'