* checking for file ‘MafDb.ALL.wgs.phase1.release.v3.20101123/DESCRIPTION’ ... OK
* preparing ‘MafDb.ALL.wgs.phase1.release.v3.20101123’:
* checking DESCRIPTION meta-information ... OK
* checking for LF line-endings in source and make files
* checking for empty or unneeded directories
WARNING: directory ‘MafDb.ALL.wgs.phase1.release.v3.20101123/inst/MafDbPkgTemplate/inst/extdata’ is empty
* building ‘MafDb.ALL.wgs.phase1.release.v3.20101123_1.0.0.tar.gz’
Warning in utils::tar(filepath, pkgname, compression = "gzip", compression_level = 9L, :
storing paths of more than 100 bytes is not portable:
‘MafDb.ALL.wgs.phase1.release.v3.20101123/inst/MafDbPkgTemplate/man/MafDb.ALL.wgs.phase1.release.v3.20101123-package.Rd’
Warning in utils::tar(filepath, pkgname, compression = "gzip", compression_level = 9L, :
storing paths of more than 100 bytes is not portable:
‘MafDb.ALL.wgs.phase1.release.v3.20101123/inst/extdata/MafDb.ALL.wgs.phase1.release.v3.20101123.sqlite’