Back to the "Multiple platform build/check report" | A B C D E F G H I J K L M N O P Q [R] S T U V W X Y Z |
This page was generated on 2013-10-09 09:37:25 -0700 (Wed, 09 Oct 2013).
Package 569/671 | Hostname | OS / Arch | BUILD | CHECK | BUILD BIN | ||||
rsbml 2.18.1 Michael Lawrence
| george2 | Linux (Ubuntu 12.04.1 LTS) / x86_64 | [ OK ] | OK | |||||
moscato2 | Windows Server 2008 R2 Enterprise SP1 (64-bit) / x64 | OK | OK | OK | |||||
petty | Mac OS X Snow Leopard (10.6.8) / x86_64 | OK | OK | OK |
Package: rsbml |
Version: 2.18.1 |
Command: /home/biocbuild/bbs-2.12-bioc/R/bin/R CMD build --keep-empty-dirs --no-resave-data rsbml |
StartedAt: 2013-10-08 21:45:11 -0700 (Tue, 08 Oct 2013) |
EndedAt: 2013-10-08 21:45:44 -0700 (Tue, 08 Oct 2013) |
EllapsedTime: 33.2 seconds |
RetCode: 0 |
Status: OK |
PackageFile: rsbml_2.18.1.tar.gz |
PackageFileSize: 615.1 KiB |
* checking for file ‘rsbml/DESCRIPTION’ ... OK * preparing ‘rsbml’: * checking DESCRIPTION meta-information ... OK * cleaning src * installing the package to re-build vignettes * creating vignettes ... OK * cleaning src * checking for LF line-endings in source and make files * checking for empty or unneeded directories * building ‘rsbml_2.18.1.tar.gz’