Back to the "Multiple platform build/check report" | A B C D [E] F G H I J K L M N O P Q R S T U V W X Y Z |
This page was generated on 2013-10-09 09:38:01 -0700 (Wed, 09 Oct 2013).
Package 203/671 | Hostname | OS / Arch | BUILD | CHECK | BUILD BIN | ||||
eiR 1.0.3 Kevin Horan
| george2 | Linux (Ubuntu 12.04.1 LTS) / x86_64 | [ OK ] | OK | |||||
moscato2 | Windows Server 2008 R2 Enterprise SP1 (64-bit) / x64 | N O T S U P P O R T E D | |||||||
petty | Mac OS X Snow Leopard (10.6.8) / x86_64 | OK | OK | OK |
Package: eiR |
Version: 1.0.3 |
Command: /home/biocbuild/bbs-2.12-bioc/R/bin/R CMD build --keep-empty-dirs --no-resave-data eiR |
StartedAt: 2013-10-08 23:37:06 -0700 (Tue, 08 Oct 2013) |
EndedAt: 2013-10-08 23:38:17 -0700 (Tue, 08 Oct 2013) |
EllapsedTime: 71.9 seconds |
RetCode: 0 |
Status: OK |
PackageFile: eiR_1.0.3.tar.gz |
PackageFileSize: 3.558 MiB |
* checking for file ‘eiR/DESCRIPTION’ ... OK * preparing ‘eiR’: * checking DESCRIPTION meta-information ... OK * cleaning src * running ‘cleanup’ * installing the package to re-build vignettes * creating vignettes ... OK * cleaning src * running ‘cleanup’ * checking for LF line-endings in source and make files * checking for empty or unneeded directories WARNING: directory ‘eiR/tmp/data’ is empty WARNING: directory ‘eiR/tmp/fp_test/data’ is empty WARNING: directory ‘eiR/tmp/run-50-40’ is empty * looking to see if a ‘data/datalist’ file should be added * building ‘eiR_1.0.3.tar.gz’