Back to the "Multiple platform build/check report" | A B C D E F G H I J K L M N O P Q [R] S T U V W X Y Z |
This page was generated on 2013-10-09 09:37:52 -0700 (Wed, 09 Oct 2013).
Package 533/671 | Hostname | OS / Arch | BUILD | CHECK | BUILD BIN | ||||
ReactomePA 1.4.0 Guangchuang Yu
| george2 | Linux (Ubuntu 12.04.1 LTS) / x86_64 | [ OK ] | OK | |||||
moscato2 | Windows Server 2008 R2 Enterprise SP1 (64-bit) / x64 | OK | OK | OK | |||||
petty | Mac OS X Snow Leopard (10.6.8) / x86_64 | OK | OK | OK |
Package: ReactomePA |
Version: 1.4.0 |
Command: /home/biocbuild/bbs-2.12-bioc/R/bin/R CMD build --keep-empty-dirs --no-resave-data ReactomePA |
StartedAt: 2013-10-08 23:06:31 -0700 (Tue, 08 Oct 2013) |
EndedAt: 2013-10-08 23:07:00 -0700 (Tue, 08 Oct 2013) |
EllapsedTime: 28.2 seconds |
RetCode: 0 |
Status: OK |
PackageFile: ReactomePA_1.4.0.tar.gz |
PackageFileSize: 101.6 KiB |
* checking for file ‘ReactomePA/DESCRIPTION’ ... OK * preparing ‘ReactomePA’: * checking DESCRIPTION meta-information ... OK * installing the package to re-build vignettes * creating vignettes ... OK * checking for LF line-endings in source and make files * checking for empty or unneeded directories * looking to see if a ‘data/datalist’ file should be added * building ‘ReactomePA_1.4.0.tar.gz’