Back to the "Multiple platform build/check report" | A B C D E F G H I J K L [M] N O P Q R S T U V W X Y Z |
This page was generated on 2013-10-09 09:38:10 -0700 (Wed, 09 Oct 2013).
Package 433/671 | Hostname | OS / Arch | BUILD | CHECK | BUILD BIN | ||||
MVCClass 1.34.0 Elizabeth Whalen
| george2 | Linux (Ubuntu 12.04.1 LTS) / x86_64 | OK | OK | |||||
moscato2 | Windows Server 2008 R2 Enterprise SP1 (64-bit) / x64 | OK | OK | [ OK ] | |||||
petty | Mac OS X Snow Leopard (10.6.8) / x86_64 | OK | OK | OK |
Package: MVCClass |
Version: 1.34.0 |
Command: rm -rf MVCClass.buildbin-libdir && mkdir MVCClass.buildbin-libdir && E:\biocbld\bbs-2.12-bioc\R\bin\R.exe CMD INSTALL --build --merge-multiarch --library=MVCClass.buildbin-libdir MVCClass_1.34.0.tar.gz |
StartedAt: 2013-10-09 05:17:34 -0700 (Wed, 09 Oct 2013) |
EndedAt: 2013-10-09 05:17:55 -0700 (Wed, 09 Oct 2013) |
EllapsedTime: 21.3 seconds |
RetCode: 0 |
Status: OK |
PackageFile: MVCClass_1.34.0.zip |
PackageFileSize: 1.147 MiB |
install for i386 * installing *source* package 'MVCClass' ... ** R ** inst ** preparing package for lazy loading ** help *** installing help indices ** building package indices ** installing vignettes ** testing if installed package can be loaded install for x64 * installing *source* package 'MVCClass' ... ** testing if installed package can be loaded * MD5 sums packaged installation of 'MVCClass' as MVCClass_1.34.0.zip * DONE (MVCClass)