Back to the "Multiple platform build/check report" | A B C [D] E F G H I J K L M N O P Q R S T U V W X Y Z |
Package 156/631 | Hostname | OS / Arch | BUILD | CHECK | BUILD BIN | ||||
DAVIDQuery 1.19.0 Roger Day
| george2 | Linux (Ubuntu 12.04.1 LTS) / x86_64 | OK | OK | |||||
lamb2 | Linux (openSUSE 11.4) / x86_64 | [ OK ] | OK | ||||||
moscato2 | Windows Server 2008 R2 Enterprise SP1 (64-bit) / x64 | OK | OK | OK | |||||
petty | Mac OS X Leopard (10.5.8) / i386 | OK | OK | OK |
Package: DAVIDQuery |
Version: 1.19.0 |
Command: /home/biocbuild/bbs-2.12-bioc/R/bin/R CMD build --keep-empty-dirs --no-resave-data DAVIDQuery |
StartedAt: 2013-01-15 21:43:00 -0800 (Tue, 15 Jan 2013) |
EndedAt: 2013-01-15 21:44:20 -0800 (Tue, 15 Jan 2013) |
EllapsedTime: 79.9 seconds |
RetCode: 0 |
Status: OK |
PackageFile: DAVIDQuery_1.19.0.tar.gz |
PackageFileSize: 182.9 KiB |
* checking for file ‘DAVIDQuery/DESCRIPTION’ ... OK * preparing ‘DAVIDQuery’: * checking DESCRIPTION meta-information ... OK * installing the package to re-build vignettes * creating vignettes ... OK * checking for LF line-endings in source and make files * checking for empty or unneeded directories * building ‘DAVIDQuery_1.19.0.tar.gz’