BioC 2.12: CHECK report for ArrayExpress on george2
This page was generated on 2013-10-09 09:37:31 -0700 (Wed, 09 Oct 2013).
ArrayExpress 1.20.0 Ibrahim Emam
Snapshot Date: 2013-10-08 17:00:48 -0700 (Tue, 08 Oct 2013) | URL: https://hedgehog.fhcrc.org/bioconductor/branches/RELEASE_2_12/madman/Rpacks/ArrayExpress | Last Changed Rev: 75263 / Revision: 81334 | Last Changed Date: 2013-04-03 14:32:27 -0700 (Wed, 03 Apr 2013) |
| george2 | Linux (Ubuntu 12.04.1 LTS) / x86_64 | OK | [ OK ] | |
moscato2 | Windows Server 2008 R2 Enterprise SP1 (64-bit) / x64 | OK | OK | OK |
petty | Mac OS X Snow Leopard (10.6.8) / x86_64 | OK | OK | OK |
Summary
Package: ArrayExpress |
Version: 1.20.0 |
Command: /home/biocbuild/bbs-2.12-bioc/R/bin/R CMD check --no-vignettes --timings ArrayExpress_1.20.0.tar.gz |
StartedAt: 2013-10-09 00:10:08 -0700 (Wed, 09 Oct 2013) |
EndedAt: 2013-10-09 00:29:38 -0700 (Wed, 09 Oct 2013) |
EllapsedTime: 1170.3 seconds |
RetCode: 0 |
Status: OK |
CheckDir: ArrayExpress.Rcheck |
Warnings: 0 |
Command output
* using log directory ‘/home/biocbuild/bbs-2.12-bioc/meat/ArrayExpress.Rcheck’
* using R version 3.0.1 (2013-05-16)
* using platform: x86_64-unknown-linux-gnu (64-bit)
* using session charset: UTF-8
* using option ‘--no-vignettes’
* checking for file ‘ArrayExpress/DESCRIPTION’ ... OK
* this is package ‘ArrayExpress’ version ‘1.20.0’
* checking package namespace information ... OK
* checking package dependencies ... OK
* checking if this is a source package ... OK
* checking if there is a namespace ... OK
* checking for hidden files and directories ... OK
* checking for portable file names ... OK
* checking for sufficient/correct file permissions ... OK
* checking whether package ‘ArrayExpress’ can be installed ... [7s/7s] OK
* checking installed package size ... OK
* checking package directory ... OK
* checking DESCRIPTION meta-information ... OK
* checking top-level files ... OK
* checking for left-over files ... OK
* checking index information ... OK
* checking package subdirectories ... OK
* checking R files for non-ASCII characters ... OK
* checking R files for syntax errors ... OK
* checking whether the package can be loaded ... OK
* checking whether the package can be loaded with stated dependencies ... OK
* checking whether the package can be unloaded cleanly ... OK
* checking whether the namespace can be loaded with stated dependencies ... OK
* checking whether the namespace can be unloaded cleanly ... OK
* checking for unstated dependencies in R code ... OK
* checking S3 generic/method consistency ... OK
* checking replacement functions ... OK
* checking foreign function calls ... OK
* checking R code for possible problems ... OK
* checking Rd files ... OK
* checking Rd metadata ... OK
* checking Rd cross-references ... OK
* checking for missing documentation entries ... OK
* checking for code/documentation mismatches ... OK
* checking Rd \usage sections ... OK
* checking Rd contents ... OK
* checking for unstated dependencies in examples ... OK
* checking installed files from ‘inst/doc’ ... OK
* checking examples ... [17m/18m] OK
Examples with CPU or elapsed time > 5s
user system elapsed
queryAE 977.153 0.288 996.974
ArrayExpress 13.045 2.120 69.663
getAE 5.740 0.672 26.575
* checking for unstated dependencies in vignettes ... OK
* checking package vignettes in ‘inst/doc’ ... OK
* checking running R code from vignettes ... SKIPPED
* checking re-building of vignettes ... SKIPPED
* checking PDF version of manual ... OK
ArrayExpress.Rcheck/00install.out:
* installing *source* package ‘ArrayExpress’ ...
** R
** inst
** preparing package for lazy loading
** help
*** installing help indices
** building package indices
** installing vignettes
** testing if installed package can be loaded
* DONE (ArrayExpress)
ArrayExpress.Rcheck/ArrayExpress-Ex.timings:
name | user | system | elapsed
|
ArrayExpress | 13.045 | 2.120 | 69.663 |
|
ae2bioc | 0.000 | 0.004 | 0.007 |
|
getAE | 5.740 | 0.672 | 26.575 |
|
procset | 0.004 | 0.000 | 0.004 |
|
queryAE | 977.153 | 0.288 | 996.974 |
|