Back to the "Multiple platform build/check report" | A B C D E F G H I J K L M N O P Q R [S] T U V W X Y Z |
Package 603/658 | Hostname | OS / Arch | BUILD | CHECK | BUILD BIN | ||||
spkTools 1.15.0 Matthew N McCall
| george2 | Linux (Ubuntu 12.04.1 LTS) / x86_64 | OK | OK | |||||
moscato2 | Windows Server 2008 R2 Enterprise SP1 (64-bit) / x64 | OK | OK | OK | |||||
petty | Mac OS X Leopard (10.5.8) / i386 | OK | OK | OK | |||||
pelham | Mac OS X Snow Leopard (10.6.8) / x86_64 | [ OK ] | OK | OK |
Package: spkTools |
Version: 1.15.0 |
Command: /Library/Frameworks/R.framework/Versions/Current/Resources/bin/R CMD build --keep-empty-dirs --no-resave-data spkTools |
StartedAt: 2013-03-23 22:17:51 -0700 (Sat, 23 Mar 2013) |
EndedAt: 2013-03-23 22:18:11 -0700 (Sat, 23 Mar 2013) |
EllapsedTime: 19.3 seconds |
RetCode: 0 |
Status: OK |
PackageFile: spkTools_1.15.0.tar.gz |
PackageFileSize: 539.4 KiB |
* checking for file 'spkTools/DESCRIPTION' ... OK * preparing 'spkTools': * checking DESCRIPTION meta-information ... OK * installing the package to re-build vignettes * creating vignettes ... OK * checking for LF line-endings in source and make files * checking for empty or unneeded directories * looking to see if a 'data/datalist' file should be added * building 'spkTools_1.15.0.tar.gz'