Back to the "Multiple platform build/check report" | A B C D E F G H I J K L M N O P Q R [S] T U V W X Y Z |
Package 594/658 | Hostname | OS / Arch | BUILD | CHECK | BUILD BIN | ||||
snm 1.7.0 Brig Mecham
| george2 | Linux (Ubuntu 12.04.1 LTS) / x86_64 | [ OK ] | OK | |||||
moscato2 | Windows Server 2008 R2 Enterprise SP1 (64-bit) / x64 | OK | OK | OK | |||||
petty | Mac OS X Leopard (10.5.8) / i386 | OK | OK | OK |
Package: snm |
Version: 1.7.0 |
Command: /home/biocbuild/bbs-2.12-bioc/R/bin/R CMD build --keep-empty-dirs --no-resave-data snm |
StartedAt: 2013-03-24 22:27:33 -0700 (Sun, 24 Mar 2013) |
EndedAt: 2013-03-24 22:32:26 -0700 (Sun, 24 Mar 2013) |
EllapsedTime: 292.3 seconds |
RetCode: 0 |
Status: OK |
PackageFile: snm_1.7.0.tar.gz |
PackageFileSize: 617.1 KiB |
* checking for file ‘snm/DESCRIPTION’ ... OK * preparing ‘snm’: * checking DESCRIPTION meta-information ... OK * installing the package to re-build vignettes * creating vignettes ... OK * checking for LF line-endings in source and make files * checking for empty or unneeded directories * building ‘snm_1.7.0.tar.gz’