Back to the "Multiple platform build/check report" | A B C D E F G [H] I J K L M N O P Q R S T U V W X Y Z |
Package 321/658 | Hostname | OS / Arch | BUILD | CHECK | BUILD BIN | ||||
hypergraph 1.31.0 Bioconductor Package Maintainer
| george2 | Linux (Ubuntu 12.04.1 LTS) / x86_64 | OK | OK | |||||
moscato2 | Windows Server 2008 R2 Enterprise SP1 (64-bit) / x64 | OK | OK | OK | |||||
petty | Mac OS X Leopard (10.5.8) / i386 | OK | OK | OK | |||||
pelham | Mac OS X Snow Leopard (10.6.8) / x86_64 | OK | OK | [ OK ] |
Package: hypergraph |
Version: 1.31.0 |
Command: rm -rf hypergraph.buildbin-libdir && mkdir hypergraph.buildbin-libdir && /Library/Frameworks/R.framework/Versions/Current/Resources/bin/R CMD INSTALL --build --no-multiarch --library=hypergraph.buildbin-libdir hypergraph_1.31.0.tar.gz |
StartedAt: 2013-03-24 11:48:56 -0700 (Sun, 24 Mar 2013) |
EndedAt: 2013-03-24 11:49:05 -0700 (Sun, 24 Mar 2013) |
EllapsedTime: 8.4 seconds |
RetCode: 0 |
Status: OK |
PackageFile: hypergraph_1.31.0.tgz |
PackageFileSize: 103.3 KiB |
* installing *source* package 'hypergraph' ... ** R ** inst ** preparing package for lazy loading Creating a new generic function for 'head' in package 'hypergraph' Creating a new generic function for 'tail' in package 'hypergraph' ** help *** installing help indices ** building package indices ** installing vignettes ** testing if installed package can be loaded packaged installation of 'hypergraph' as 'hypergraph_1.31.0.tgz' * DONE (hypergraph)