Back to the "Multiple platform build/check report" | A [B] C D E F G H I J K L M N O P Q R S T U V W X Y Z |
Package 55/631 | Hostname | OS / Arch | BUILD | CHECK | BUILD BIN | ||||
beadarray 2.9.1 Mark Dunning
| george2 | Linux (Ubuntu 12.04.1 LTS) / x86_64 | OK | OK | |||||
lamb2 | Linux (openSUSE 11.4) / x86_64 | [ OK ] | OK | ||||||
moscato2 | Windows Server 2008 R2 Enterprise SP1 (64-bit) / x64 | OK | OK | OK | |||||
petty | Mac OS X Leopard (10.5.8) / i386 | OK | OK | OK |
Package: beadarray |
Version: 2.9.1 |
Command: /home/biocbuild/bbs-2.12-bioc/R/bin/R CMD build --keep-empty-dirs --no-resave-data beadarray |
StartedAt: 2013-01-15 20:59:45 -0800 (Tue, 15 Jan 2013) |
EndedAt: 2013-01-15 21:03:32 -0800 (Tue, 15 Jan 2013) |
EllapsedTime: 226.4 seconds |
RetCode: 0 |
Status: OK |
PackageFile: beadarray_2.9.1.tar.gz |
PackageFileSize: 3.622 MiB |
* checking for file ‘beadarray/DESCRIPTION’ ... OK * preparing ‘beadarray’: * checking DESCRIPTION meta-information ... OK * cleaning src * installing the package to re-build vignettes * creating vignettes ... OK * cleaning src * checking for LF line-endings in source and make files * checking for empty or unneeded directories * looking to see if a ‘data/datalist’ file should be added * building ‘beadarray_2.9.1.tar.gz’