| Back to the "Multiple platform build/check report" | A B C D E F G H I J K L M N O P Q [R] S T U V W X Y Z |
| Package 540/658 | Hostname | OS / Arch | BUILD | CHECK | BUILD BIN | ||||
| Risa 1.1.0 Alejandra Gonzalez-Beltran, ISA Team
| george2 | Linux (Ubuntu 12.04.1 LTS) / x86_64 | [ OK ] | WARNINGS | |||||
| moscato2 | Windows Server 2008 R2 Enterprise SP1 (64-bit) / x64 | OK | OK | OK | |||||
| petty | Mac OS X Leopard (10.5.8) / i386 | OK | OK | OK |
| Package: Risa |
| Version: 1.1.0 |
| Command: /home/biocbuild/bbs-2.12-bioc/R/bin/R CMD build --keep-empty-dirs --no-resave-data Risa |
| StartedAt: 2013-03-24 23:21:48 -0700 (Sun, 24 Mar 2013) |
| EndedAt: 2013-03-24 23:23:16 -0700 (Sun, 24 Mar 2013) |
| EllapsedTime: 87.9 seconds |
| RetCode: 0 |
| Status: OK |
| PackageFile: Risa_1.1.0.tar.gz |
| PackageFileSize: 185.5 KiB |
* checking for file ‘Risa/DESCRIPTION’ ... OK * preparing ‘Risa’: * checking DESCRIPTION meta-information ... OK * installing the package to re-build vignettes * creating vignettes ... OK * checking for LF line-endings in source and make files * checking for empty or unneeded directories * building ‘Risa_1.1.0.tar.gz’