Back to the "Multiple platform build/check report" | A B C D E F [G] H I J K L M N O P Q R S T U V W X Y Z |
Package 277/658 | Hostname | OS / Arch | BUILD | CHECK | BUILD BIN | ||||
GLAD 2.22.0 Philippe Hupe
| george2 | Linux (Ubuntu 12.04.1 LTS) / x86_64 | [ OK ] | OK | |||||
moscato2 | Windows Server 2008 R2 Enterprise SP1 (64-bit) / x64 | OK | OK | OK | |||||
petty | Mac OS X Leopard (10.5.8) / i386 | OK | OK | OK |
Package: GLAD |
Version: 2.22.0 |
Command: /home/biocbuild/bbs-2.12-bioc/R/bin/R CMD build --keep-empty-dirs --no-resave-data GLAD |
StartedAt: 2013-03-24 21:12:01 -0700 (Sun, 24 Mar 2013) |
EndedAt: 2013-03-24 21:12:22 -0700 (Sun, 24 Mar 2013) |
EllapsedTime: 20.9 seconds |
RetCode: 0 |
Status: OK |
PackageFile: GLAD_2.22.0.tar.gz |
PackageFileSize: 793.6 KiB |
* checking for file ‘GLAD/DESCRIPTION’ ... OK * preparing ‘GLAD’: * checking DESCRIPTION meta-information ... OK * cleaning src * running ‘cleanup’ * installing the package to re-build vignettes * creating vignettes ... OK * cleaning src * running ‘cleanup’ * checking for LF line-endings in source and make files * checking for empty or unneeded directories * looking to see if a ‘data/datalist’ file should be added * building ‘GLAD_2.22.0.tar.gz’