Back to the "Multiple platform build/check report" A [B] C  D  E  F  G  H  I  J  K  L  M  N  O  P  Q  R  S  T  U  V  W  X  Y  Z 

Package 63/658HostnameOS / ArchBUILDCHECKBUILD BIN
BGmix 1.19.0
Alex Lewin
Snapshot Date: 2013-03-23 17:02:20 -0700 (Sat, 23 Mar 2013)
URL: https://hedgehog.fhcrc.org/bioconductor/trunk/madman/Rpacks/BGmix
Last Changed Rev: 70052 / Revision: 74756
Last Changed Date: 2012-10-01 15:43:56 -0700 (Mon, 01 Oct 2012)
george2 Linux (Ubuntu 12.04.1 LTS) / x86_64  OK  OK 
moscato2 Windows Server 2008 R2 Enterprise SP1 (64-bit) / x64 N O T   S U P P O R T E D
petty Mac OS X Leopard (10.5.8) / i386  OK  OK  OK 
pelham Mac OS X Snow Leopard (10.6.8) / x86_64  OK [ OK ] OK 

Summary

Package: BGmix
Version: 1.19.0
Command: /Library/Frameworks/R.framework/Versions/Current/Resources/bin/R CMD check --no-vignettes --timings --no-multiarch BGmix_1.19.0.tar.gz
StartedAt: 2013-03-24 02:42:24 -0700 (Sun, 24 Mar 2013)
EndedAt: 2013-03-24 02:44:18 -0700 (Sun, 24 Mar 2013)
EllapsedTime: 114.2 seconds
RetCode: 0
Status:  OK 
CheckDir: BGmix.Rcheck
Warnings: 0

Command output

* using log directory '/Users/biocbuild/bbs-2.12-bioc/meat/BGmix.Rcheck'
* using R version 3.0.0 beta (2013-03-21 r62346)
* using platform: x86_64-apple-darwin10.8.0 (64-bit)
* using session charset: ASCII
* using option '--no-vignettes'
* checking for file 'BGmix/DESCRIPTION' ... OK
* checking extension type ... Package
* this is package 'BGmix' version '1.19.0'
* checking package namespace information ... OK
* checking package dependencies ... OK
* checking if this is a source package ... OK
* checking if there is a namespace ... OK
* checking for hidden files and directories ... NOTE
Found the following hidden files and directories:
  .BBSoptions
These were most likely included in error. See section 'Package
structure' in the 'Writing R Extensions' manual.
* checking for portable file names ... OK
* checking for sufficient/correct file permissions ... OK
* checking whether package 'BGmix' can be installed ... [9s/12s] OK
* checking installed package size ... OK
* checking package directory ... OK
* checking DESCRIPTION meta-information ... OK
* checking top-level files ... OK
* checking for left-over files ... OK
* checking index information ... OK
* checking package subdirectories ... OK
* checking R files for non-ASCII characters ... OK
* checking R files for syntax errors ... OK
* checking whether the package can be loaded ... OK
* checking whether the package can be loaded with stated dependencies ... OK
* checking whether the package can be unloaded cleanly ... OK
* checking whether the namespace can be loaded with stated dependencies ... OK
* checking whether the namespace can be unloaded cleanly ... OK
* checking for unstated dependencies in R code ... OK
* checking S3 generic/method consistency ... OK
* checking replacement functions ... OK
* checking foreign function calls ... OK
* checking R code for possible problems ... NOTE
ccSummary: warning in agrep("genes", summ, max = 0): partial argument
  match of 'max' to 'max.distance'
ccSummary: warning in agrep("conds", summ, max = 0): partial argument
  match of 'max' to 'max.distance'
ccSummary: warning in agrep("effects", summ, max = 0): partial argument
  match of 'max' to 'max.distance'
ccSummary: warning in agrep("mix comps", summ, max = 0): partial
  argument match of 'max' to 'max.distance'
ccSummary: warning in agrep("variance", summ, max = 0): partial
  argument match of 'max' to 'max.distance'
ccSummary: warning in agrep("mix prior", summ, max = 0): partial
  argument match of 'max' to 'max.distance'
ccSummary: warning in agrep("niter", summ, max = 0): partial argument
  match of 'max' to 'max.distance'
ccSummary: warning in agrep("nburn", summ, max = 0): partial argument
  match of 'max' to 'max.distance'
ccSummary: warning in agrep("nthin", summ, max = 0): partial argument
  match of 'max' to 'max.distance'
ccSummary: warning in agrep("seed", summ, max = 0): partial argument
  match of 'max' to 'max.distance'
ccSummary: warning in agrep("move", summ, max = 0): partial argument
  match of 'max' to 'max.distance'
ccSummary: warning in agrep("fullBayes", summ, max = 0): partial
  argument match of 'max' to 'max.distance'
ccSummary: warning in agrep("aa updated", summ, max = 0): partial
  argument match of 'max' to 'max.distance'
ccSummary: warning in agrep("eta updated", summ, max = 0): partial
  argument match of 'max' to 'max.distance'
ccSummary: warning in agrep("lambdas updated", summ, max = 0): partial
  argument match of 'max' to 'max.distance'
ccSummary: warning in agrep("tau's", summ, max = 0): partial argument
  match of 'max' to 'max.distance'
ccSummary: warning in agrep("t-dist", summ, max = 0): partial argument
  match of 'max' to 'max.distance'
ccSummary: warning in agrep("(params)", summ, max = 0): partial
  argument match of 'max' to 'max.distance'
ccSummary: warning in agrep("(predictive)", summ, max = 0): partial
  argument match of 'max' to 'max.distance'
ccSummary: warning in agrep("eta_up", summ, max = 0): partial argument
  match of 'max' to 'max.distance'
ccSummary: warning in agrep("eta_down", summ, max = 0): partial
  argument match of 'max' to 'max.distance'
ccSummary: warning in agrep("lambda+ for", summ, max = 0): partial
  argument match of 'max' to 'max.distance'
ccSummary: warning in agrep("lambda- for", summ, max = 0): partial
  argument match of 'max' to 'max.distance'
plotFDR: warning in legend(xx, yy, leg = c("FDR=5%", "FDR=10%"), col =
  c("red", "blue"), lty = c(1, 1), bg = "white"): partial argument
  match of 'leg' to 'legend'
* checking Rd files ... OK
* checking Rd metadata ... OK
* checking Rd cross-references ... OK
* checking for missing documentation entries ... OK
* checking for code/documentation mismatches ... OK
* checking Rd \usage sections ... OK
* checking Rd contents ... OK
* checking for unstated dependencies in examples ... OK
* checking contents of 'data' directory ... OK
* checking data for non-ASCII characters ... OK
* checking data for ASCII and uncompressed saves ... OK
* checking line endings in C/C++/Fortran sources/headers ... OK
* checking line endings in Makefiles ... OK
* checking for portable compilation flags in Makevars ... OK
* checking for portable use of $(BLAS_LIBS) and $(LAPACK_LIBS) ... OK
* checking compiled code ... NOTE
File '/Users/biocbuild/bbs-2.12-bioc/meat/BGmix.Rcheck/BGmix/libs/BGmix.so':
  Found '__ZSt4cerr', possibly from 'std::cerr' (C++)
    Object: 'updates_BGmix.o'

Compiled code should not call entry points which might terminate R nor
write to stdout/stderr instead of to the console.

See 'Writing portable packages' in the 'Writing R Extensions' manual.
* checking installed files from 'inst/doc' ... OK
* checking examples ... [68s/77s] OK
Examples with CPU or elapsed time > 5s
                 user system elapsed
FDRforTailPP   11.513  1.383  13.539
BGmix           8.234  0.432   9.566
EstimatePi0     5.548  0.457   6.622
BGmix-package   5.646  0.318   6.856
FDRplotTailPP   5.044  0.839   7.187
TailPP          5.042  0.509   6.443
histTailPP      5.039  0.412   5.782
plotMixDensity  5.028  0.321   6.383
* checking for unstated dependencies in vignettes ... OK
* checking package vignettes in 'inst/doc' ... OK
* checking running R code from vignettes ... SKIPPED
* checking re-building of vignettes ... SKIPPED
* checking PDF version of manual ... OK

NOTE: There were 3 notes.
See
  '/Users/biocbuild/bbs-2.12-bioc/meat/BGmix.Rcheck/00check.log'
for details.

BGmix.Rcheck/00install.out:

* installing *source* package 'BGmix' ...
checking for gcc... llvm-gcc-4.2 -arch x86_64 -std=gnu99
checking for C compiler default output file name... a.out
checking whether the C compiler works... yes
checking whether we are cross compiling... no
checking for suffix of executables... 
checking for suffix of object files... o
checking whether we are using the GNU C compiler... yes
checking whether llvm-gcc-4.2 -arch x86_64 -std=gnu99 accepts -g... yes
checking for llvm-gcc-4.2 -arch x86_64 -std=gnu99 option to accept ISO C89... none needed
checking for llvm-gcc-4.2 -arch x86_64 -std=gnu99 option to accept ISO C99... none needed
checking for cos in -lm... yes
Untarring Boost header files...
checking for an ANSI C-conforming const... yes
checking for inline... inline
configure: creating ./config.status
config.status: creating src/Makevars
** libs
llvm-g++-4.2 -arch x86_64 -I/Library/Frameworks/R.framework/Resources/include -DNDEBUG -I ../boostIncl -I/usr/local/include    -fPIC  -mtune=core2 -g -O2  -DUSING_R -c BGmix_main.cpp -o BGmix_main.o
llvm-g++-4.2 -arch x86_64 -I/Library/Frameworks/R.framework/Resources/include -DNDEBUG -I ../boostIncl -I/usr/local/include    -fPIC  -mtune=core2 -g -O2  -DUSING_R -c rundir.cpp -o rundir.o
llvm-g++-4.2 -arch x86_64 -I/Library/Frameworks/R.framework/Resources/include -DNDEBUG -I ../boostIncl -I/usr/local/include    -fPIC  -mtune=core2 -g -O2  -DUSING_R -c updates_BGmix.cpp -o updates_BGmix.o
llvm-g++-4.2 -arch x86_64 -dynamiclib -Wl,-headerpad_max_install_names -undefined dynamic_lookup -single_module -multiply_defined suppress -L/usr/local/lib -o BGmix.so BGmix_main.o rundir.o updates_BGmix.o -lm -F/Library/Frameworks/R.framework/.. -framework R -Wl,-framework -Wl,CoreFoundation
rm -r ../boostIncl 
installing to /Users/biocbuild/bbs-2.12-bioc/meat/BGmix.Rcheck/BGmix/libs
** R
** data
** inst
** preparing package for lazy loading
** help
*** installing help indices
** building package indices
** installing vignettes
   'BGmix.Rnw' 
** testing if installed package can be loaded
* DONE (BGmix)

BGmix.Rcheck/BGmix-Ex.timings:

nameusersystemelapsed
BGmix-package5.6460.3186.856
BGmix8.2340.4329.566
EstimatePi05.5480.4576.622
FDRforTailPP11.513 1.38313.539
FDRplotTailPP5.0440.8397.187
TailPP5.0420.5096.443
calcFDR0.9420.0721.232
ccParams0.9390.1011.503
ccPred0.9360.0651.324
ccSummary0.8910.0621.267
ccTrace1.8110.0962.551
histTailPP5.0390.4125.782
plotBasic0.9520.0691.113
plotCompare0.0200.0090.047
plotFDR0.9470.1141.267
plotMixDensity5.0280.3216.383
plotPredChecks0.9850.1061.306
plotTrace1.8960.1172.449