Back to the "Multiple platform build/check report" | A B C D E F G H I J K L M N O P Q [R] S T U V W X Y Z |
Package 470/609 | Hostname | OS / Arch | BUILD | CHECK | BUILD BIN | ||||
r3Cseq 1.4.0 Supat Thongjuea
| lamb1 | Linux (openSUSE 12.1) / x86_64 | OK | WARNINGS | |||||
moscato1 | Windows Server 2008 R2 Enterprise SP1 (64-bit) / x64 | OK | WARNINGS | OK | |||||
perceval | Mac OS X Leopard (10.5.8) / i386 | [ OK ] | WARNINGS | OK |
Package: r3Cseq |
Version: 1.4.0 |
Command: /Library/Frameworks/R.framework/Versions/2.15/Resources/bin/R CMD build --keep-empty-dirs --no-resave-data r3Cseq |
StartedAt: 2013-03-24 21:44:23 -0700 (Sun, 24 Mar 2013) |
EndedAt: 2013-03-24 21:45:43 -0700 (Sun, 24 Mar 2013) |
EllapsedTime: 79.7 seconds |
RetCode: 0 |
Status: OK |
PackageFile: r3Cseq_1.4.0.tar.gz |
PackageFileSize: 3.904 MiB |
* checking for file 'r3Cseq/DESCRIPTION' ... OK * preparing 'r3Cseq': * checking DESCRIPTION meta-information ... OK * installing the package to re-build vignettes * creating vignettes ... OK * checking for LF line-endings in source and make files * checking for empty or unneeded directories * looking to see if a 'data/datalist' file should be added * building 'r3Cseq_1.4.0.tar.gz'