Back to the "Multiple platform build/check report" | A B C D E F G H I J K L M N [O] P Q R S T U V W X Y Z |
Package 419/609 | Hostname | OS / Arch | BUILD | CHECK | BUILD BIN | ||||
oneChannelGUI 1.24.0 Raffaele A Calogero
| lamb1 | Linux (openSUSE 12.1) / x86_64 | OK | OK | |||||
moscato1 | Windows Server 2008 R2 Enterprise SP1 (64-bit) / x64 | OK | OK | OK | |||||
perceval | Mac OS X Leopard (10.5.8) / i386 | OK | OK | [ OK ] |
Package: oneChannelGUI |
Version: 1.24.0 |
Command: rm -rf oneChannelGUI.buildbin-libdir && mkdir oneChannelGUI.buildbin-libdir && /Users/biocbuild/BBS/utils/build-universal.sh oneChannelGUI_1.24.0.tar.gz /Library/Frameworks/R.framework/Versions/2.15/Resources/bin/R oneChannelGUI.buildbin-libdir |
StartedAt: 2013-03-25 01:59:26 -0700 (Mon, 25 Mar 2013) |
EndedAt: 2013-03-25 01:59:52 -0700 (Mon, 25 Mar 2013) |
EllapsedTime: 26.5 seconds |
RetCode: 0 |
Status: OK |
PackageFile: oneChannelGUI_1.24.0.tgz |
PackageFileSize: 5.802 MiB |
>>>>>>> >>>>>>> INSTALLATION WITH 'R CMD INSTALL --preclean --no-multiarch --library=oneChannelGUI.buildbin-libdir oneChannelGUI_1.24.0.tar.gz' >>>>>>> * installing *source* package 'oneChannelGUI' ... ** R ** data ** inst ** preparing package for lazy loading Bioconductor version 2.11 (BiocInstaller 1.8.3), ?biocLite for help ** help *** installing help indices ** building package indices ** installing vignettes 'Exon-level.analysis.Rnw' 'RNAseq.Rnw' 'gene-level.analysis.Rnw' 'install.Rnw' 'standAloneFunctions.Rnw' ** testing if installed package can be loaded Bioconductor version 2.11 (BiocInstaller 1.8.3), ?biocLite for help * DONE (oneChannelGUI)