Back to the "Multiple platform build/check report" | A B C D E F G H I J K [L] M N O P Q R S T U V W X Y Z |
Package 337/609 | Hostname | OS / Arch | BUILD | CHECK | BUILD BIN | ||||
lmdme 1.0.0 Cristobal Fresno
| lamb1 | Linux (openSUSE 12.1) / x86_64 | [ OK ] | OK | |||||
moscato1 | Windows Server 2008 R2 Enterprise SP1 (64-bit) / x64 | OK | OK | OK | |||||
perceval | Mac OS X Leopard (10.5.8) / i386 | OK | OK | OK |
Package: lmdme |
Version: 1.0.0 |
Command: /home/biocbuild/bbs-2.11-bioc/R/bin/R CMD build --keep-empty-dirs --no-resave-data lmdme |
StartedAt: 2013-03-24 22:44:39 -0700 (Sun, 24 Mar 2013) |
EndedAt: 2013-03-24 22:45:00 -0700 (Sun, 24 Mar 2013) |
EllapsedTime: 20.5 seconds |
RetCode: 0 |
Status: OK |
PackageFile: lmdme_1.0.0.tar.gz |
PackageFileSize: 251.2 KiB |
* checking for file ‘lmdme/DESCRIPTION’ ... OK * preparing ‘lmdme’: * checking DESCRIPTION meta-information ... OK * installing the package to re-build vignettes * creating vignettes ... OK * checking for LF line-endings in source and make files * checking for empty or unneeded directories * building ‘lmdme_1.0.0.tar.gz’