Back to the "Multiple platform build/check report" | A B C D E F G H [I] J K L M N O P Q R S T U V W X Y Z |
Package 309/609 | Hostname | OS / Arch | BUILD | CHECK | BUILD BIN | ||||
iFlow 2.10.0 Kyongryun Lee
| lamb1 | Linux (openSUSE 12.1) / x86_64 | OK | WARNINGS | |||||
moscato1 | Windows Server 2008 R2 Enterprise SP1 (64-bit) / x64 | N O T S U P P O R T E D | |||||||
perceval | Mac OS X Leopard (10.5.8) / i386 | [ OK ] | WARNINGS | OK |
Package: iFlow |
Version: 2.10.0 |
Command: /Library/Frameworks/R.framework/Versions/2.15/Resources/bin/R CMD build --keep-empty-dirs --no-resave-data iFlow |
StartedAt: 2013-03-24 21:12:35 -0700 (Sun, 24 Mar 2013) |
EndedAt: 2013-03-24 21:13:05 -0700 (Sun, 24 Mar 2013) |
EllapsedTime: 29.8 seconds |
RetCode: 0 |
Status: OK |
PackageFile: iFlow_2.10.0.tar.gz |
PackageFileSize: 1.061 MiB |
* checking for file 'iFlow/DESCRIPTION' ... OK * preparing 'iFlow': * checking DESCRIPTION meta-information ... OK * installing the package to re-build vignettes * creating vignettes ... OK * checking for LF line-endings in source and make files * checking for empty or unneeded directories * building 'iFlow_2.10.0.tar.gz'