>>>>>>>
>>>>>>> INSTALLATION WITH 'R CMD INSTALL --preclean --no-multiarch --library=SIM.buildbin-libdir SIM_1.28.2.tar.gz'
>>>>>>>
* installing *source* package 'SIM' ...
** libs
*** arch - i386
gcc -arch i386 -std=gnu99 -I/Library/Frameworks/R.framework/Resources/include -I/Library/Frameworks/R.framework/Resources/include/i386 -DNDEBUG -I/usr/local/include -fPIC -g -O2 -Wall -pedantic -c withinWindow.c -o withinWindow.o
gcc -arch i386 -std=gnu99 -dynamiclib -Wl,-headerpad_max_install_names -undefined dynamic_lookup -single_module -multiply_defined suppress -L/usr/local/lib -o SIM.so withinWindow.o -F/Library/Frameworks/R.framework/.. -framework R -Wl,-framework -Wl,CoreFoundation
installing to /Users/biocbuild/bbs-2.11-bioc/meat/SIM.buildbin-libdir/SIM/libs/i386
** R
** data
** inst
** preparing package for lazy loading
** help
*** installing help indices
** building package indices
** installing vignettes
'SIM.Rnw' using 'latin1'
** testing if installed package can be loaded
* DONE (SIM)
>>>>>>>
>>>>>>> FIXING LINKS FOR SIM.buildbin-libdir/SIM/libs/i386/SIM.so
>>>>>>>
install_name_tool -change "/usr/local/lib/libgcc_s.1.dylib" "/Library/Frameworks/R.framework/Versions/2.15/Resources/lib/libgcc_s.1.dylib" "SIM.buildbin-libdir/SIM/libs/i386/SIM.so"
install_name_tool -change "/usr/local/lib/libgfortran.2.dylib" "/Library/Frameworks/R.framework/Versions/2.15/Resources/lib/libgfortran.2.dylib" "SIM.buildbin-libdir/SIM/libs/i386/SIM.so"
install_name_tool -change "/usr/local/lib/libreadline.5.2.dylib" "/Library/Frameworks/R.framework/Versions/2.15/Resources/lib/libreadline.5.2.dylib" "SIM.buildbin-libdir/SIM/libs/i386/SIM.so"
install_name_tool -change "/usr/local/lib/libreadline.dylib" "/Library/Frameworks/R.framework/Versions/2.15/Resources/lib/libreadline.dylib" "SIM.buildbin-libdir/SIM/libs/i386/SIM.so"
>>>>>>>
>>>>>>> INSTALLATION OF x86_64 LIBS WITH 'R_ARCH=/x86_64 R CMD INSTALL --preclean --no-multiarch --no-test-load --library=SIM.buildbin-libdir --libs-only SIM_1.28.2.tar.gz'
>>>>>>>
* installing *source* package 'SIM' ...
** libs
*** arch - x86_64
gcc -arch x86_64 -std=gnu99 -I/Library/Frameworks/R.framework/Resources/include -I/Library/Frameworks/R.framework/Resources/include/x86_64 -DNDEBUG -I/usr/local/include -fPIC -g -O2 -Wall -pedantic -c withinWindow.c -o withinWindow.o
gcc -arch x86_64 -std=gnu99 -dynamiclib -Wl,-headerpad_max_install_names -undefined dynamic_lookup -single_module -multiply_defined suppress -L/usr/local/lib -o SIM.so withinWindow.o -F/Library/Frameworks/R.framework/.. -framework R -Wl,-framework -Wl,CoreFoundation
installing to /Users/biocbuild/bbs-2.11-bioc/meat/SIM.buildbin-libdir/SIM/libs/x86_64
* DONE (SIM)
>>>>>>>
>>>>>>> FIXING LINKS FOR SIM.buildbin-libdir/SIM/libs/x86_64/SIM.so
>>>>>>>
install_name_tool -change "/usr/local/lib/libgcc_s.1.dylib" "/Library/Frameworks/R.framework/Versions/2.15/Resources/lib/libgcc_s.1.dylib" "SIM.buildbin-libdir/SIM/libs/x86_64/SIM.so"
install_name_tool -change "/usr/local/lib/libgfortran.2.dylib" "/Library/Frameworks/R.framework/Versions/2.15/Resources/lib/libgfortran.2.dylib" "SIM.buildbin-libdir/SIM/libs/x86_64/SIM.so"
install_name_tool -change "/usr/local/lib/libreadline.5.2.dylib" "/Library/Frameworks/R.framework/Versions/2.15/Resources/lib/libreadline.5.2.dylib" "SIM.buildbin-libdir/SIM/libs/x86_64/SIM.so"
install_name_tool -change "/usr/local/lib/libreadline.dylib" "/Library/Frameworks/R.framework/Versions/2.15/Resources/lib/libreadline.dylib" "SIM.buildbin-libdir/SIM/libs/x86_64/SIM.so"