Back to the "Multiple platform build/check report" | A B C D E F G H I J K L M N O P Q [R] S T U V W X Y Z |
Package 505/609 | Hostname | OS / Arch | BUILD | CHECK | BUILD BIN | ||||
RMAPPER 1.8.0 Heike Sichtig
| lamb1 | Linux (openSUSE 12.1) / x86_64 | OK | OK | |||||
moscato1 | Windows Server 2008 R2 Enterprise SP1 (64-bit) / x64 | OK | OK | OK | |||||
perceval | Mac OS X Leopard (10.5.8) / i386 | OK | OK | [ OK ] |
Package: RMAPPER |
Version: 1.8.0 |
Command: rm -rf RMAPPER.buildbin-libdir && mkdir RMAPPER.buildbin-libdir && /Users/biocbuild/BBS/utils/build-universal.sh RMAPPER_1.8.0.tar.gz /Library/Frameworks/R.framework/Versions/2.15/Resources/bin/R RMAPPER.buildbin-libdir |
StartedAt: 2013-03-25 02:03:49 -0700 (Mon, 25 Mar 2013) |
EndedAt: 2013-03-25 02:03:53 -0700 (Mon, 25 Mar 2013) |
EllapsedTime: 3.2 seconds |
RetCode: 0 |
Status: OK |
PackageFile: RMAPPER_1.8.0.tgz |
PackageFileSize: 137.6 KiB |
>>>>>>> >>>>>>> INSTALLATION WITH 'R CMD INSTALL --preclean --no-multiarch --library=RMAPPER.buildbin-libdir RMAPPER_1.8.0.tar.gz' >>>>>>> * installing *source* package 'RMAPPER' ... ** R ** inst ** preparing package for lazy loading ** help *** installing help indices ** building package indices ** installing vignettes 'readMAPPER.Rnw' ** testing if installed package can be loaded * DONE (RMAPPER)