Back to the "Multiple platform build/check report" |
Package 65/122 | Hostname | OS / Arch | BUILD | CHECK | BUILD BIN | ||||
hgu133plus2frmavecs 1.1.10 Matthew N. McCall
| lamb2 | Linux (openSUSE 11.4) / x86_64 | OK | WARNINGS | |||||
moscato2 | Windows Server 2008 R2 Enterprise SP1 (64-bit) / x64 | OK | WARNINGS | OK | |||||
petty | Mac OS X Leopard (10.5.8) / i386 | [ OK ] | WARNINGS | OK |
Package: hgu133plus2frmavecs |
Version: 1.1.10 |
Command: /Library/Frameworks/R.framework/Versions/2.15/Resources/bin/R CMD build --keep-empty-dirs --no-resave-data hgu133plus2frmavecs |
StartedAt: 2012-05-15 11:52:24 -0700 (Tue, 15 May 2012) |
EndedAt: 2012-05-15 11:53:01 -0700 (Tue, 15 May 2012) |
EllapsedTime: 37.1 seconds |
RetCode: 0 |
Status: OK |
PackageFile: hgu133plus2frmavecs_1.1.10.tar.gz |
PackageFileSize: 26.01 MiB |
* checking for file 'hgu133plus2frmavecs/DESCRIPTION' ... OK * preparing 'hgu133plus2frmavecs': * checking DESCRIPTION meta-information ... OK * checking for LF line-endings in source and make files * checking for empty or unneeded directories * looking to see if a 'data/datalist' file should be added * building 'hgu133plus2frmavecs_1.1.10.tar.gz'