Back to the "Multiple platform build/check report" | A B C D E [F] G H I J K L M N O P Q R S T U V W X Y Z |
Package 186/554 | Hostname | OS / Arch | BUILD | CHECK | BUILD BIN | ||||
flowMerge 2.4.0 Greg Finak
| lamb2 | Linux (openSUSE 11.4) / x86_64 | OK | OK | |||||
puck5 | Linux (Ubuntu 12.04) / x86_64 | [ OK ] | OK | ||||||
moscato2 | Windows Server 2008 R2 Enterprise SP1 (64-bit) / x64 | OK | OK | OK | |||||
petty | Mac OS X Leopard (10.5.8) / i386 | OK | OK | OK |
Package: flowMerge |
Version: 2.4.0 |
Command: /home/hpages/test-puck5/bbs-2.10-bioc/R/bin/R CMD build --keep-empty-dirs --no-resave-data flowMerge |
StartedAt: 2012-03-31 21:24:45 -0700 (Sat, 31 Mar 2012) |
EndedAt: 2012-03-31 21:25:33 -0700 (Sat, 31 Mar 2012) |
EllapsedTime: 48.1 seconds |
RetCode: 0 |
Status: OK |
PackageFile: flowMerge_2.4.0.tar.gz |
PackageFileSize: 639.2 KiB |
* checking for file 'flowMerge/DESCRIPTION' ... OK * preparing 'flowMerge': * checking DESCRIPTION meta-information ... OK * installing the package to re-build vignettes * creating vignettes ... OK * checking for LF line-endings in source and make files * checking for empty or unneeded directories * looking to see if a 'data/datalist' file should be added * building 'flowMerge_2.4.0.tar.gz'