Back to the "Multiple platform build/check report" | A B [C] D E F G H I J K L M N O P Q R S T U V W X Y Z |
Package 133/554 | Hostname | OS / Arch | BUILD | CHECK | BUILD BIN | ||||
crlmm 1.14.0 Benilton S Carvalho
| lamb2 | Linux (openSUSE 11.4) / x86_64 | OK | OK | |||||
puck5 | Linux (Ubuntu 12.04) / x86_64 | [ OK ] | OK | ||||||
moscato2 | Windows Server 2008 R2 Enterprise SP1 (64-bit) / x64 | OK | OK | OK | |||||
petty | Mac OS X Leopard (10.5.8) / i386 | OK | OK | OK |
Package: crlmm |
Version: 1.14.0 |
Command: /home/hpages/test-puck5/bbs-2.10-bioc/R/bin/R CMD build --keep-empty-dirs --no-resave-data crlmm |
StartedAt: 2012-03-31 21:19:57 -0700 (Sat, 31 Mar 2012) |
EndedAt: 2012-03-31 21:22:02 -0700 (Sat, 31 Mar 2012) |
EllapsedTime: 124.8 seconds |
RetCode: 0 |
Status: OK |
PackageFile: crlmm_1.14.0.tar.gz |
PackageFileSize: 4.042 MiB |
* checking for file 'crlmm/DESCRIPTION' ... OK * preparing 'crlmm': * checking DESCRIPTION meta-information ... OK * cleaning src * installing the package to re-build vignettes * creating vignettes ... OK * cleaning src * checking for LF line-endings in source and make files * checking for empty or unneeded directories * looking to see if a 'data/datalist' file should be added * building 'crlmm_1.14.0.tar.gz'