Back to the "Multiple platform build/check report" | A B C D E F G H I J K L M N O P Q [R] S T U V W X Y Z |
Package 453/553 | Hostname | OS / Arch | BUILD | CHECK | BUILD BIN | ||||
Rgraphviz 1.34.2 Kasper Hansen
| lamb2 | Linux (openSUSE 11.4) / x86_64 | OK | OK | |||||
moscato2 | Windows Server 2008 R2 Enterprise SP1 (64-bit) / x64 | OK | OK | OK | |||||
petty | Mac OS X Leopard (10.5.8) / i386 | [ OK ] | OK | OK |
Package: Rgraphviz |
Version: 1.34.2 |
Command: /Library/Frameworks/R.framework/Versions/2.15/Resources/bin/R CMD build --keep-empty-dirs --no-resave-data Rgraphviz |
StartedAt: 2012-09-23 21:10:51 -0700 (Sun, 23 Sep 2012) |
EndedAt: 2012-09-23 21:11:14 -0700 (Sun, 23 Sep 2012) |
EllapsedTime: 23.4 seconds |
RetCode: 0 |
Status: OK |
PackageFile: Rgraphviz_1.34.2.tar.gz |
PackageFileSize: 668.3 KiB |
* checking for file 'Rgraphviz/DESCRIPTION' ... OK * preparing 'Rgraphviz': * checking DESCRIPTION meta-information ... OK * cleaning src * installing the package to re-build vignettes * creating vignettes ... OK * cleaning src * checking for LF line-endings in source and make files * checking for empty or unneeded directories * building 'Rgraphviz_1.34.2.tar.gz'