Back to the "Multiple platform build/check report" | A B C D E F G H I J K L [M] N O P Q R S T U V W X Y Z |
Package 334/553 | Hostname | OS / Arch | BUILD | CHECK | BUILD BIN | ||||
MeasurementError.cor 1.28.0 Beiying Ding
| lamb2 | Linux (openSUSE 11.4) / x86_64 | OK | OK | |||||
moscato2 | Windows Server 2008 R2 Enterprise SP1 (64-bit) / x64 | [ OK ] | OK | OK | |||||
petty | Mac OS X Leopard (10.5.8) / i386 | OK | OK | OK |
Package: MeasurementError.cor |
Version: 1.28.0 |
Command: chmod a+r MeasurementError.cor -R && E:\biocbld\bbs-2.10-bioc\R\bin\R.exe CMD build --keep-empty-dirs --no-resave-data MeasurementError.cor |
StartedAt: 2012-09-23 21:58:20 -0700 (Sun, 23 Sep 2012) |
EndedAt: 2012-09-23 21:58:28 -0700 (Sun, 23 Sep 2012) |
EllapsedTime: 8.0 seconds |
RetCode: 0 |
Status: OK |
PackageFile: MeasurementError.cor_1.28.0.tar.gz |
PackageFileSize: 87.95 KiB |
* checking for file 'MeasurementError.cor/DESCRIPTION' ... OK * preparing 'MeasurementError.cor': * checking DESCRIPTION meta-information ... OK * installing the package to re-build vignettes * creating vignettes ... OK * excluding invalid files Subdirectory 'R' contains invalid file names: 'zzz' Subdirectory 'man' contains invalid file names: 'CalcInitials' 'TransformCon2Uncon' 'TransformUncon2Con' 'cor.me' 'fcn' 'fcn.uncons' 'gradient' 'gradient.uncons' * checking for LF line-endings in source and make files * checking for empty or unneeded directories * building 'MeasurementError.cor_1.28.0.tar.gz'