Back to the "Multiple platform build/check report" | A B C D E F G [H] I J K L M N O P Q R S T U V W X Y Z |
Package 265/554 | Hostname | OS / Arch | BUILD | CHECK | BUILD BIN | ||||
HiTC 1.0.0 N. Servant
| lamb2 | Linux (openSUSE 11.4) / x86_64 | OK | OK | |||||
puck5 | Linux (Ubuntu 12.04) / x86_64 | [ OK ] | OK | ||||||
moscato2 | Windows Server 2008 R2 Enterprise SP1 (64-bit) / x64 | OK | OK | OK | |||||
petty | Mac OS X Leopard (10.5.8) / i386 | OK | OK | OK |
Package: HiTC |
Version: 1.0.0 |
Command: /home/hpages/test-puck5/bbs-2.10-bioc/R/bin/R CMD build --keep-empty-dirs --no-resave-data HiTC |
StartedAt: 2012-03-31 23:10:30 -0700 (Sat, 31 Mar 2012) |
EndedAt: 2012-03-31 23:11:02 -0700 (Sat, 31 Mar 2012) |
EllapsedTime: 32.0 seconds |
RetCode: 0 |
Status: OK |
PackageFile: HiTC_1.0.0.tar.gz |
PackageFileSize: 686 KiB |
* checking for file 'HiTC/DESCRIPTION' ... OK * preparing 'HiTC': * checking DESCRIPTION meta-information ... OK * installing the package to re-build vignettes * creating vignettes ... OK * checking for LF line-endings in source and make files * checking for empty or unneeded directories * building 'HiTC_1.0.0.tar.gz'