Back to the "Multiple platform build/check report" | A B C D E F [G] H I J K L M N O P Q R S T U V W X Y Z |
Package 236/554 | Hostname | OS / Arch | BUILD | CHECK | BUILD BIN | ||||
GLAD 2.18.0 Philippe Hupe
| lamb2 | Linux (openSUSE 11.4) / x86_64 | OK | OK | |||||
puck5 | Linux (Ubuntu 12.04) / x86_64 | [ OK ] | OK | ||||||
moscato2 | Windows Server 2008 R2 Enterprise SP1 (64-bit) / x64 | OK | OK | OK | |||||
petty | Mac OS X Leopard (10.5.8) / i386 | OK | OK | OK |
Package: GLAD |
Version: 2.18.0 |
Command: /home/hpages/test-puck5/bbs-2.10-bioc/R/bin/R CMD build --keep-empty-dirs --no-resave-data GLAD |
StartedAt: 2012-03-31 20:13:52 -0700 (Sat, 31 Mar 2012) |
EndedAt: 2012-03-31 20:14:04 -0700 (Sat, 31 Mar 2012) |
EllapsedTime: 11.7 seconds |
RetCode: 0 |
Status: OK |
PackageFile: GLAD_2.18.0.tar.gz |
PackageFileSize: 793.4 KiB |
* checking for file 'GLAD/DESCRIPTION' ... OK * preparing 'GLAD': * checking DESCRIPTION meta-information ... OK * cleaning src * running 'cleanup' * installing the package to re-build vignettes * creating vignettes ... OK * cleaning src * running 'cleanup' * checking for LF line-endings in source and make files * checking for empty or unneeded directories * looking to see if a 'data/datalist' file should be added * building 'GLAD_2.18.0.tar.gz'