Back to the "Multiple platform build/check report" | A B C D E F [G] H I J K L M N O P Q R S T U V W X Y Z |
Package 228/553 | Hostname | OS / Arch | BUILD | CHECK | BUILD BIN | ||||
GEOquery 2.23.5 Sean Davis
| lamb2 | Linux (openSUSE 11.4) / x86_64 | [ OK ] | OK | |||||
moscato2 | Windows Server 2008 R2 Enterprise SP1 (64-bit) / x64 | OK | OK | OK | |||||
petty | Mac OS X Leopard (10.5.8) / i386 | OK | OK | OK |
Package: GEOquery |
Version: 2.23.5 |
Command: /home/biocbuild/bbs-2.10-bioc/R/bin/R CMD build --keep-empty-dirs --no-resave-data GEOquery |
StartedAt: 2012-09-23 20:22:05 -0700 (Sun, 23 Sep 2012) |
EndedAt: 2012-09-23 20:23:26 -0700 (Sun, 23 Sep 2012) |
EllapsedTime: 81.1 seconds |
RetCode: 0 |
Status: OK |
PackageFile: GEOquery_2.23.5.tar.gz |
PackageFileSize: 13.02 MiB |
* checking for file ‘GEOquery/DESCRIPTION’ ... OK * preparing ‘GEOquery’: * checking DESCRIPTION meta-information ... OK * installing the package to re-build vignettes * creating vignettes ... OK * checking for LF line-endings in source and make files * checking for empty or unneeded directories WARNING: directory ‘GEOquery/inst/Rnw’ is empty * building ‘GEOquery_2.23.5.tar.gz’