installing R.css in D:/biocbld/bbs-2.1-bioc/meat/weaver.buildbin-libdir
Using auto-selected zip options ''
---------- Making package weaver ------------
adding build stamp to DESCRIPTION
installing R files
installing inst files
preparing package weaver for lazy loading
Loading required package: digest
Loading required package: tools
Loading required package: codetools
installing man source files
installing indices
installing help
>>> Building/Updating help pages for package 'weaver'
Formats: text html latex example chm
internal text html latex chm
weaver text html latex example chm
HHC5012: Error: Cannot create a temporary file in your TEMP path.
HHC4016: Warning: Cannot open "metrix\GDAC NetAffx;c:\gs\gs8.51\bin;c:\Program Files\Java\jdk1.5.0_06\bin;c:\program files\imagemagick-6.3.2-q16;c:\Program Files\MySQL\MySQL Server 5.0\bin;c:\Program Files\ggobi".
Microsoft HTML Help Compiler 4.74.8702
Compiling d:\biocbld\bbs-2.1-bioc\meat\R.INSTALL.5568\weaver\chm\weaver.chm
HHC4016: Warning: Cannot open "metrix\GDAC NetAffx;c:\gs\gs8.51\bin;c:\Program Files\Java\jdk1.5.0_06\bin;c:\program files\imagemagick-6.3.2-q16;c:\Program Files\MySQL\MySQL Server 5.0\bin;c:\Program Files\ggobi".
The following files were not compiled:
adding MD5 sums
packaged installation of package 'weaver' as weaver_1.4.0.zip
* DONE (weaver)