Back to the "Multiple platform build/check report" | A B C D E F G H I J K L [M] N O P Q R S T U V W X Y Z |
Package 121/233 | Hostname | OS / Arch | BUILD | CHECK | BUILD BIN | ||||
maCorrPlot 1.8.0 Alexander Ploner
| lamb1 | Linux (SUSE 10.1) / x86_64 | [ OK ] | OK | |||||
wilson2 | Linux (openSUSE 10.3) / x86_64 | OK | OK | ||||||
wellington | Linux (openSUSE 10.3) / i686 | OK | OK | ||||||
liverpool | Windows Server 2003 R2 (32-bit) / x64 | OK | OK | OK | |||||
lemming | Windows Server 2003 (32-bit) / x64 | OK | OK | OK | |||||
pitt | Mac OS X Tiger (10.4.11) / i386 | OK | OK | OK |
Package: maCorrPlot |
Version: 1.8.0 |
Command: /home/biocbuild/bbs-2.1-bioc/R/bin/R CMD build maCorrPlot |
StartedAt: 2008-04-09 14:52:22 -0700 (Wed, 09 Apr 2008) |
EndedAt: 2008-04-09 14:52:28 -0700 (Wed, 09 Apr 2008) |
EllapsedTime: 6.5 seconds |
RetCode: 0 |
Status: OK |
PackageFile: maCorrPlot_1.8.0.tar.gz |
PackageFileSize: 1.081 MiB |
* checking for file 'maCorrPlot/DESCRIPTION' ... OK * preparing 'maCorrPlot': * checking DESCRIPTION meta-information ... OK * installing the package to re-build vignettes * Installing *source* package 'maCorrPlot' ... ** R ** data ** inst ** help >>> Building/Updating help pages for package 'maCorrPlot' Formats: text html latex example CorrSample text html latex example CutCI text html latex example oligodata text html latex example plot.corr.sample text html latex example ** building package indices ... * DONE (maCorrPlot) * creating vignettes ... OK * removing junk files * checking for LF line-endings in source and make files * checking for empty or unneeded directories * building 'maCorrPlot_1.8.0.tar.gz'