* checking for working latex ... OK
* using log directory 'D:/biocbld/bbs-2.1-bioc/meat/clusterStab.Rcheck'
* using R version 2.6.2 (2008-02-08)
* checking for file 'clusterStab/DESCRIPTION' ... OK
* this is package 'clusterStab' version '1.10.0'
* checking package dependencies ... OK
* checking if this is a source package ... OK
* checking whether package 'clusterStab' can be installed ... OK
* checking package directory ... OK
* checking for portable file names ... OK
* checking DESCRIPTION meta-information ... OK
* checking top-level files ... OK
* checking index information ... OK
* checking package subdirectories ... OK
* checking R files for non-ASCII characters ... OK
* checking R files for syntax errors ... OK
* checking whether the package can be loaded ... OK
* checking whether the package can be loaded with stated dependencies ... OK
* checking for unstated dependencies in R code ... OK
* checking S3 generic/method consistency ... OK
* checking replacement functions ... OK
* checking foreign function calls ... OK
* checking R code for possible problems ... OK
* checking Rd files ... OK
* checking Rd cross-references ... OK
* checking for missing documentation entries ... OK
* checking for code/documentation mismatches ... OK
* checking Rd \usage sections ... OK
* creating clusterStab-Ex.R ... OK
* checking examples ... OK
* checking package vignettes in 'inst/doc' ... OK
* creating clusterStab-manual.tex ... OK
* checking clusterStab-manual.tex ... OK
installing R.css in D:/biocbld/bbs-2.1-bioc/meat/clusterStab.Rcheck
---------- Making package clusterStab ------------
adding build stamp to DESCRIPTION
installing R files
installing inst files
preparing package clusterStab for lazy loading
Loading required package: Biobase
Loading required package: tools
Welcome to Bioconductor
Vignettes contain introductory material. To view, type
'openVignette()'. To cite Bioconductor, see
'citation("Biobase")' and for packages 'citation(pkgname)'.
installing man source files
installing indices
installing help
>>> Building/Updating help pages for package 'clusterStab'
Formats: text html latex example chm
benhur-class text html latex chm
benhur text html latex example chm
clusterComp-class text html latex chm
clusterComp text html latex example chm
HHC5012: Error: Cannot create a temporary file in your TEMP path.
HHC4016: Warning: Cannot open "\Program Files\Windows Resource Kits\Tools\;c:\Program Files\Affymetrix\GDAC NetAffx;c:\gs\gs8.51\bin;c:\Program Files\Java\jdk1.5.0_06\bin;c:\program files\imagemagick-6.3.2-q16;c:\Program Files\MySQL\MySQL Server 5.0\bin;c:\Program Files\ggobi".
Microsoft HTML Help Compiler 4.74.8702
Compiling d:\biocbld\bbs-2.1-bioc\meat\clusterStab.Rcheck\00_pkg_src\clusterStab\chm\clusterStab.chm
HHC4016: Warning: Cannot open "\Program Files\Windows Resource Kits\Tools\;c:\Program Files\Affymetrix\GDAC NetAffx;c:\gs\gs8.51\bin;c:\Program Files\Java\jdk1.5.0_06\bin;c:\program files\imagemagick-6.3.2-q16;c:\Program Files\MySQL\MySQL Server 5.0\bin;c:\Program Files\ggobi".
The following files were not compiled:
adding MD5 sums
* DONE (clusterStab)