installing R.css in D:/biocbld/bbs-2.1-bioc/meat/arrayQualityMetrics.buildbin-libdir
Using auto-selected zip options ''
---------- Making package arrayQualityMetrics ------------
adding build stamp to DESCRIPTION
installing NAMESPACE file and metadata
installing R files
installing inst files
installing man source files
installing indices
installing help
>>> Building/Updating help pages for package 'arrayQualityMetrics'
Formats: text html latex example chm
XYfromGAL text html latex chm
arrayQualityMetrics text html latex example chm
HHC5012: Error: Cannot create a temporary file in your TEMP path.
HHC4016: Warning: Cannot open "Edit;c:\Program Files\Intel\DMIX;c:\Program Files\Windows Resource Kits\Tools\;c:\Program Files\Affymetrix\GDAC NetAffx;c:\gs\gs8.51\bin;c:\Program Files\Java\jdk1.5.0_06\bin;c:\program files\imagemagick-6.3.2-q16;c:\Program Files\MySQL\MySQL Server 5.0\bin;c:".
Microsoft HTML Help Compiler 4.74.8702
Compiling d:\biocbld\bbs-2.1-bioc\meat\R.INSTALL.2300\arrayQualityMetrics\chm\arrayQualityMetrics.chm
HHC4016: Warning: Cannot open "Edit;c:\Program Files\Intel\DMIX;c:\Program Files\Windows Resource Kits\Tools\;c:\Program Files\Affymetrix\GDAC NetAffx;c:\gs\gs8.51\bin;c:\Program Files\Java\jdk1.5.0_06\bin;c:\program files\imagemagick-6.3.2-q16;c:\Program Files\MySQL\MySQL Server 5.0\bin;c:".
The following files were not compiled:
preparing package arrayQualityMetrics for lazy loading
Loading required package: Biobase
Loading required package: tools
Welcome to Bioconductor
Vignettes contain introductory material. To view, type
'openVignette()'. To cite Bioconductor, see
'citation("Biobase")' and for packages 'citation(pkgname)'.
Loading required package: geneplotter
Loading required package: annotate
Loading required package: AnnotationDbi
Loading required package: DBI
Loading required package: RSQLite
Loading required package: xtable
Loading required package: lattice
KernSmooth 2.22 installed
Copyright M. P. Wand 1997
Loading required package: genefilter
Loading required package: survival
Loading required package: splines
Loading required package: vsn
Loading required package: affy
Loading required package: affyio
Loading required package: preprocessCore
Loading required package: limma
Loading required package: RColorBrewer
Loading required package: affyPLM
Loading required package: gcrma
Loading required package: matchprobes
Loading required package: simpleaffy
Loading required package: CCl4
Loading required package: latticeExtra
Loading required package: grid
adding MD5 sums
packaged installation of package 'arrayQualityMetrics' as arrayQualityMetrics_1.2.1.zip
* DONE (arrayQualityMetrics)