installing R.css in D:/biocbld/bbs-2.1-bioc/meat/MeasurementError.cor.buildbin-libdir
Using auto-selected zip options ''
---------- Making package MeasurementError.cor ------------
adding build stamp to DESCRIPTION
installing NAMESPACE file and metadata
installing R files
installing inst files
installing man source files
installing indices
installing help
>>> Building/Updating help pages for package 'MeasurementError.cor'
Formats: text html latex example chm
cor.me.matrix text html latex example chm
cor.me.vector text html latex example chm
HHC5012: Error: Cannot create a temporary file in your TEMP path.
HHC4016: Warning: Cannot open "les\Subversion\bin;c:\Program Files\UltraEdit;c:\Program Files\Intel\DMIX;c:\Program Files\Windows Resource Kits\Tools\;c:\Program Files\Affymetrix\GDAC NetAffx;c:\gs\gs8.51\bin;c:\Program Files\Java\jdk1.5.0_06\bin;c:\program files\imagemagick-6.3.2-q16;c:\Pr".
Microsoft HTML Help Compiler 4.74.8702
Compiling d:\biocbld\bbs-2.1-bioc\meat\R.INSTALL.4216\MeasurementError.cor\chm\MeasurementError.cor.chm
HHC4016: Warning: Cannot open "les\Subversion\bin;c:\Program Files\UltraEdit;c:\Program Files\Intel\DMIX;c:\Program Files\Windows Resource Kits\Tools\;c:\Program Files\Affymetrix\GDAC NetAffx;c:\gs\gs8.51\bin;c:\Program Files\Java\jdk1.5.0_06\bin;c:\program files\imagemagick-6.3.2-q16;c:\Pr".
The following files were not compiled:
adding MD5 sums
packaged installation of package 'MeasurementError.cor' as MeasurementError.cor_1.10.0.zip
* DONE (MeasurementError.cor)