* checking for working latex ... OK
* using log directory 'E:/biocbld/bbs-2.1-bioc/meat/BioMVCClass.Rcheck'
* using R version 2.6.2 (2008-02-08)
* checking for file 'BioMVCClass/DESCRIPTION' ... OK
* this is package 'BioMVCClass' version '1.6.0'
* checking package name space information ... OK
* checking package dependencies ... OK
* checking if this is a source package ... OK
* checking whether package 'BioMVCClass' can be installed ... OK
* checking package directory ... OK
* checking for portable file names ... OK
* checking DESCRIPTION meta-information ... OK
* checking top-level files ... OK
* checking index information ... OK
* checking package subdirectories ... OK
* checking R files for non-ASCII characters ... OK
* checking R files for syntax errors ... OK
* checking whether the package can be loaded ... OK
* checking whether the package can be loaded with stated dependencies ... OK
* checking whether the name space can be loaded with stated dependencies ... OK
* checking for unstated dependencies in R code ... OK
* checking S3 generic/method consistency ... OK
* checking replacement functions ... OK
* checking foreign function calls ... OK
* checking R code for possible problems ... OK
* checking Rd files ... OK
* checking Rd cross-references ... OK
* checking for missing documentation entries ... OK
* checking for code/documentation mismatches ... OK
* checking Rd \usage sections ... OK
* creating BioMVCClass-Ex.R ... OK
* checking examples ... OK
* checking package vignettes in 'inst/doc' ... OK
* creating BioMVCClass-manual.tex ... OK
* checking BioMVCClass-manual.tex ... OK
installing R.css in E:/biocbld/bbs-2.1-bioc/meat/BioMVCClass.Rcheck
---------- Making package BioMVCClass ------------
adding build stamp to DESCRIPTION
installing NAMESPACE file and metadata
installing R files
installing inst files
installing man source files
installing indices
installing help
>>> Building/Updating help pages for package 'BioMVCClass'
Formats: text html latex example chm
GSE-class text html latex example chm
exprModel-class text html latex example chm
graphModel-class text html latex example chm
graphView-class text html latex example chm
gseModel-class text html latex example chm
heatmapView-class text html latex example chm
Microsoft HTML Help Compiler 4.74.8702
Compiling e:\biocbld\bbs-2.1-bioc\meat\BioMVCClass.Rcheck\00_pkg_src\BioMVCClass\chm\BioMVCClass.chm
Compile time: 0 minutes, 0 seconds
7 Topics
48 Local links
0 Internet links
1 Graphic
Created e:\biocbld\bbs-2.1-bioc\meat\BioMVCClass.Rcheck\00_pkg_src\BioMVCClass\chm\BioMVCClass.chm, 21,592 bytes
Compression decreased file by 12,779 bytes.
adding MD5 sums
* DONE (BioMVCClass)