Long Tests report for BioC 3.23

See here for how to subscribe to these builds.

This page was generated on 2025-11-22 23:55 -0500 (Sat, 22 Nov 2025).

Approx. Package Snapshot Date/Time (git pull): 2025-11-22 09:55 -0500 (Sat, 22 Nov 2025)
See this page for all the Bioconductor builds and their schedule.

HostnameOSArch (*)R versionInstalled pkgs
nebbiolo1Linux (Ubuntu 24.04.3 LTS)x86_64R Under development (unstable) (2025-10-20 r88955) -- "Unsuffered Consequences" 4829
lconwaymacOS 12.7.6 Montereyx86_64R Under development (unstable) (2025-10-21 r88958) -- "Unsuffered Consequences" 4603
Click on any hostname to see more info about the system (e.g. compilers)      (*) as reported by 'uname -p', except on Windows and Mac OS X

Package status is indicated by one of the following glyphs
  TIMEOUT  
CHECK of package took more than 360 minutes
  ERROR  
Bad DESCRIPTION file, or CHECK of package produced errors
  WARNINGS  
CHECK of package produced warnings
  OK  
CHECK of package went OK
  NA  
CHECK result is not available because of an anomaly in the Build System
skipped
CHECK of package was skipped because the BUILD step failed
Click on any glyph in the report below to access the detailed report.

QUICK STATSOS / ArchCHECK
nebbiolo1Linux (Ubuntu 24.04.3 LTS) / x86_64
014311
lconwaymacOS 12.7.6 Monterey / x86_64
014311
Package 1/28HostnameOS / ArchCHECK
APAlyzer 1.25.0  (landing page)
Ruijia Wang
git_last_commit: 5b343c9
git_last_commit_date: 2025-10-29 10:53:34 -0500
nebbiolo1Linux (Ubuntu 24.04.3 LTS) / x86_64  ERROR  
lconwaymacOS 12.7.6 Monterey / x86_64  ERROR  
Package 2/28HostnameOS / ArchCHECK
autonomics 1.19.0  (landing page)
Aditya Bhagwat
git_last_commit: 9fc1276
git_last_commit_date: 2025-10-29 11:06:51 -0500
nebbiolo1Linux (Ubuntu 24.04.3 LTS) / x86_64  ERROR  
lconwaymacOS 12.7.6 Monterey / x86_64  ERROR  
Package 3/28HostnameOS / ArchCHECK
beachmat 2.27.0  (landing page)
Aaron Lun
git_last_commit: 06edf7e
git_last_commit_date: 2025-10-29 10:39:35 -0500
nebbiolo1Linux (Ubuntu 24.04.3 LTS) / x86_64  WARNINGS  
lconwaymacOS 12.7.6 Monterey / x86_64  WARNINGS  
Package 4/28HostnameOS / ArchCHECK
BiocPkgTools 1.29.2  (landing page)
Sean Davis
git_last_commit: 121890f
git_last_commit_date: 2025-11-18 13:56:40 -0500
nebbiolo1Linux (Ubuntu 24.04.3 LTS) / x86_64  OK  
lconwaymacOS 12.7.6 Monterey / x86_64  OK  
Package 5/28HostnameOS / ArchCHECK
biodb 1.19.0  (landing page)
Pierrick Roger
git_last_commit: 8a361b3
git_last_commit_date: 2025-10-29 11:09:05 -0500
nebbiolo1Linux (Ubuntu 24.04.3 LTS) / x86_64  WARNINGS  
lconwaymacOS 12.7.6 Monterey / x86_64  WARNINGS  
Package 6/28HostnameOS / ArchCHECK
biodbChebi 1.17.0  (landing page)
Pierrick Roger
git_last_commit: 80ee611
git_last_commit_date: 2025-10-29 11:12:25 -0500
nebbiolo1Linux (Ubuntu 24.04.3 LTS) / x86_64  ERROR  
lconwaymacOS 12.7.6 Monterey / x86_64  ERROR  
Package 7/28HostnameOS / ArchCHECK
cBioPortalData 2.23.2  (landing page)
Marcel Ramos
git_last_commit: 0773368
git_last_commit_date: 2025-11-07 13:23:07 -0500
nebbiolo1Linux (Ubuntu 24.04.3 LTS) / x86_64  ERROR  
lconwaymacOS 12.7.6 Monterey / x86_64  ERROR  
Package 8/28HostnameOS / ArchCHECK
ChromSCape 1.21.0  (landing page)
Pacome Prompsy
git_last_commit: 47d0ff7
git_last_commit_date: 2025-10-29 11:02:56 -0500
nebbiolo1Linux (Ubuntu 24.04.3 LTS) / x86_64  ERROR  
lconwaymacOS 12.7.6 Monterey / x86_64  ERROR  
Package 9/28HostnameOS / ArchCHECK
clusterExperiment 2.31.0  (landing page)
Elizabeth Purdom
git_last_commit: dc97d45
git_last_commit_date: 2025-10-29 10:33:07 -0500
nebbiolo1Linux (Ubuntu 24.04.3 LTS) / x86_64  ERROR  
lconwaymacOS 12.7.6 Monterey / x86_64  ERROR  
Package 10/28HostnameOS / ArchCHECK
CRISPRball 1.7.0  (landing page)
Jared Andrews
git_last_commit: 43680fe
git_last_commit_date: 2025-10-29 11:27:09 -0500
nebbiolo1Linux (Ubuntu 24.04.3 LTS) / x86_64  OK  
lconwaymacOS 12.7.6 Monterey / x86_64  OK  
Package 11/28HostnameOS / ArchCHECK
crisprScore 1.15.2  (landing page)
Jean-Philippe Fortin
git_last_commit: c805e17
git_last_commit_date: 2025-11-20 17:04:11 -0500
nebbiolo1Linux (Ubuntu 24.04.3 LTS) / x86_64  ERROR  
lconwaymacOS 12.7.6 Monterey / x86_64  ERROR  
Package 12/28HostnameOS / ArchCHECK
CTexploreR 1.7.0  (landing page)
Axelle Loriot
git_last_commit: db48290
git_last_commit_date: 2025-10-29 11:26:51 -0500
nebbiolo1Linux (Ubuntu 24.04.3 LTS) / x86_64  OK  
lconwaymacOS 12.7.6 Monterey / x86_64  OK  
Package 13/28HostnameOS / ArchCHECK
DelayedMatrixStats 1.33.0  (landing page)
Peter Hickey
git_last_commit: ec9ae22
git_last_commit_date: 2025-10-29 10:41:36 -0500
nebbiolo1Linux (Ubuntu 24.04.3 LTS) / x86_64  OK  
lconwaymacOS 12.7.6 Monterey / x86_64  OK  
Package 14/28HostnameOS / ArchCHECK
DOtools 1.1.0  (landing page)
Mariano Ruz Jurado
git_last_commit: 527ea73
git_last_commit_date: 2025-10-29 11:38:46 -0500
nebbiolo1Linux (Ubuntu 24.04.3 LTS) / x86_64  ERROR  
lconwaymacOS 12.7.6 Monterey / x86_64  ERROR  
Package 15/28HostnameOS / ArchCHECK
DropletUtils 1.31.0  (landing page)
Jonathan Griffiths
git_last_commit: 92de364
git_last_commit_date: 2025-10-29 10:42:43 -0500
nebbiolo1Linux (Ubuntu 24.04.3 LTS) / x86_64  OK  
lconwaymacOS 12.7.6 Monterey / x86_64  OK  
Package 16/28HostnameOS / ArchCHECK
EpiMix 1.13.0  (landing page)
Yuanning Zheng
git_last_commit: 5408436
git_last_commit_date: 2025-10-29 11:17:43 -0500
nebbiolo1Linux (Ubuntu 24.04.3 LTS) / x86_64  OK  
lconwaymacOS 12.7.6 Monterey / x86_64  OK  
Package 17/28HostnameOS / ArchCHECK
extraChIPs 1.15.2  (landing page)
Stevie Pederson
git_last_commit: 980cc78
git_last_commit_date: 2025-11-18 06:19:20 -0500
nebbiolo1Linux (Ubuntu 24.04.3 LTS) / x86_64  OK  
lconwaymacOS 12.7.6 Monterey / x86_64  OK  
Package 18/28HostnameOS / ArchCHECK
GenomicFeatures 1.63.1  (landing page)
H. Pagès
git_last_commit: d92f2d0
git_last_commit_date: 2025-10-30 02:00:29 -0500
nebbiolo1Linux (Ubuntu 24.04.3 LTS) / x86_64  WARNINGS  
lconwaymacOS 12.7.6 Monterey / x86_64  WARNINGS  
Package 19/28HostnameOS / ArchCHECK
ginmappeR 1.7.0  (landing page)
Fernando Sola
git_last_commit: 78c4175
git_last_commit_date: 2025-10-29 11:28:37 -0500
nebbiolo1Linux (Ubuntu 24.04.3 LTS) / x86_64  ERROR  
lconwaymacOS 12.7.6 Monterey / x86_64  ERROR  
Package 20/28HostnameOS / ArchCHECK
HDF5Array 1.39.0  (landing page)
Hervé Pagès
git_last_commit: 538f969
git_last_commit_date: 2025-10-29 12:21:26 -0500
nebbiolo1Linux (Ubuntu 24.04.3 LTS) / x86_64  OK  
lconwaymacOS 12.7.6 Monterey / x86_64  OK  
Package 21/28HostnameOS / ArchCHECK
midasHLA 1.19.0  (landing page)
Maciej Migdał
git_last_commit: f95a648
git_last_commit_date: 2025-10-29 11:06:38 -0500
nebbiolo1Linux (Ubuntu 24.04.3 LTS) / x86_64  ERROR  
lconwaymacOS 12.7.6 Monterey / x86_64  ERROR  
Package 22/28HostnameOS / ArchCHECK
mosdef 1.7.0  (landing page)
Federico Marini
git_last_commit: 9ba0438
git_last_commit_date: 2025-10-29 11:29:58 -0500
nebbiolo1Linux (Ubuntu 24.04.3 LTS) / x86_64  OK  
lconwaymacOS 12.7.6 Monterey / x86_64  OK  
Package 23/28HostnameOS / ArchCHECK
MungeSumstats 1.19.1  (landing page)
Alan Murphy
git_last_commit: d2204ce
git_last_commit_date: 2025-11-06 13:53:48 -0500
nebbiolo1Linux (Ubuntu 24.04.3 LTS) / x86_64  ERROR  
lconwaymacOS 12.7.6 Monterey / x86_64  ERROR  
Package 24/28HostnameOS / ArchCHECK
rhdf5 2.55.11  (landing page)
Hugo Gruson
git_last_commit: 65346c5
git_last_commit_date: 2025-11-18 05:45:52 -0500
nebbiolo1Linux (Ubuntu 24.04.3 LTS) / x86_64  OK  
lconwaymacOS 12.7.6 Monterey / x86_64  OK  
Package 25/28HostnameOS / ArchCHECK
SimBu 1.13.0  (landing page)
Alexander Dietrich
git_last_commit: fc87678
git_last_commit_date: 2025-10-29 11:18:10 -0500
nebbiolo1Linux (Ubuntu 24.04.3 LTS) / x86_64  ERROR  
lconwaymacOS 12.7.6 Monterey / x86_64  ERROR  
Package 26/28HostnameOS / ArchCHECK
TENxIO 1.13.0  (landing page)
Marcel Ramos
git_last_commit: e1cb3c4
git_last_commit_date: 2025-10-29 11:19:24 -0500
nebbiolo1Linux (Ubuntu 24.04.3 LTS) / x86_64  OK  
lconwaymacOS 12.7.6 Monterey / x86_64  OK  
Package 27/28HostnameOS / ArchCHECK
xcms 4.9.0  (landing page)
Steffen Neumann
git_last_commit: 3321e90
git_last_commit_date: 2025-10-29 09:56:19 -0500
nebbiolo1Linux (Ubuntu 24.04.3 LTS) / x86_64  ERROR  
lconwaymacOS 12.7.6 Monterey / x86_64  ERROR  
Package 28/28HostnameOS / ArchCHECK
zellkonverter 1.21.0  (landing page)
Luke Zappia
git_last_commit: 38b921d
git_last_commit_date: 2025-11-01 07:21:07 -0500
nebbiolo1Linux (Ubuntu 24.04.3 LTS) / x86_64  ERROR  
lconwaymacOS 12.7.6 Monterey / x86_64  ERROR