Package: scRNAseq Version: 2.25.0 Command: /home/biocbuild/bbs-3.23-bioc/R/bin/R CMD INSTALL scRNAseq StartedAt: 2025-11-27 11:00:59 -0500 (Thu, 27 Nov 2025) EndedAt: 2025-11-27 11:01:42 -0500 (Thu, 27 Nov 2025) EllapsedTime: 42.9 seconds RetCode: 0 Status: OK