Package: minfiDataEPIC Version: 1.37.0 Command: /home/biocbuild/bbs-3.23-bioc/R/bin/R CMD INSTALL minfiDataEPIC StartedAt: 2025-11-27 11:01:55 -0500 (Thu, 27 Nov 2025) EndedAt: 2025-11-27 11:02:41 -0500 (Thu, 27 Nov 2025) EllapsedTime: 45.6 seconds RetCode: 0 Status: OK