Package: geneLenDataBase Version: 1.47.0 Command: /home/biocbuild/bbs-3.23-bioc/R/bin/R CMD INSTALL geneLenDataBase StartedAt: 2025-11-27 11:01:20 -0500 (Thu, 27 Nov 2025) EndedAt: 2025-11-27 11:02:36 -0500 (Thu, 27 Nov 2025) EllapsedTime: 75.7 seconds RetCode: 0 Status: OK